Workbook

Sheet Instrucciones
B2: SI YA SIGUES ESTA ESTRATEGIA:
B3: 1. Ve a la pestaña de "Último rebalanceo" e ingresa la posición y costo de tu portafolio actual en la sección de "rebalanceo de mi portafolio"
B4: 2. El formato te calculará automáticamente a los precios de compra que ingreses (vienen a cierre del último rebalanceo por default), los nuevos movimientos que tienes que hacer para continuar siguiendo la estrategia hasta este último rebalanceo.
B6: 3. La información se copiará automáticamente en la sección "seguimiento histórico de mi portafolio" dentro de la pestaña "Portafolio Actual".
B7: 4. En esa misma sección agrega el monto de inversión con el que empezaste a seguir la estrategia así como el saldo de los depósitos - retiros que has hecho al portafolio después de iniciado.
B9: 5. (OPCIONAL). Puedes ingresar la información de los dividendos cobrados totales por emisora dentro del portafolio actual si quieres calcular una aproximación del rendimiento total de cada una de acuerdo a su costo promedio ponderado actual, caso contrario, la columna de "Rendimiento Total" por emisora se convierte en rendimiento simple al momento pero en ningún caso afecta el cálculo del rendimiento total del portafolio.
B13: SI ES TU PRIMERA VEZ Y QUIERES SEGUIR ESTA ESTRATEGIA*:
B14: 1. Ve a la pestaña de "Portafolio Actual" y en la sección de "Empezar mi portafolio desde 0" ingresa la cantidad que quieres invertir en el portafolio de esta estrategia
B15: 2. El formato te calculará automáticamente a los precios de compra que ingreses (vienen a cierre del último rebalanceo por default), la cantidad de títulos que tienes que comprar por emisora para seguir esta estrategia
B17: 3. En la última columna te marcará las diferencias en peso de cada emisora vs el Portafolio Modelo así como un % de desviación total y calificación de indexación.
B19: *También lo puedes usar si ya la sigues pero hiciste un depósito/retiro de recursos de tu portafolio entre fechas de rebalanceo y quieres saber cómo debería de quedar tu portafolio con los cambios para continuar siguiendo la estrategia correctamente (sólo haz los movimientos por las diferencias que te marque entre el nuevo portafolio desde 0 y tu portafolio actual después del depósito/retiro de recursos)
B22: **En la última pestaña están las posiciones de los rebalanceos de los 12 meses anteriores a los 2 presentados en la pestaña "Último rebalanceo"
B24: DISCLAIMER: Los datos y la información proporcionados no deben interpretarse como asesoramiento de inversiones general ni personalizado ni recomendaciones para comprar o vender valores. Los productos u operaciones financieras a los que se refieren esos datos y esa información pueden no ser adecuados para tu perfil, tus objetivos o tus expectativas de inversión. Es tu responsabilidad determinar si cualquier producto u operación financiera es adecuada para tu caso, según tus intereses, objetivos de inversión, horizonte de inversión y propensión al riesgo.

Sheet Estrategia
B2: IPC GMVP
B3: Toma todas las emisoras componentes del índice S&P BMV/IPC, asignándoles la ponderación de acuerdo al método de Portafolio Global de Mínima Varianza (GMVP) de sus rendimientos diarios de los últimos 12 meses. Si alguna ponderación no alcanza a completar al menos 1 título, dicha emisora quedará en 0. Busca estar 100% invertido o lo más cercano a ello.
B6: Fecha de inicio: | C6: 1 de Noviembre 2021
B7: Universo: | C7: S&P BMV/IPC
B8: Rebalanceo: | C8: Semestral
B9: Monto mínimo sugerido: | C9: 25000
B10: Riesgo (volatilidad anual) | C10: Medio (10-15%)
B11: Acciones fraccionadas | C11: No
B12: % Mínimo por emisora | C12: 0
B13: % Máximo por emisora | C13: NA
B14: Efectivo | C14: 0-5%
B16: *Para el remanente de efectivo, se puede seleccionar entre un rendimiento igual al promedio mensual de la TIIE de fondeo a 1 día durante el período entre rebalanceos (base 30/360) o si se quiere omitir, seleccionar 0 en la casilla de TIIE en la pestaña último rebalanceo. No se incluyen los dividendos cobrados en el período para el cálculo.
B18: **Los rendimientos calculados, son brutos (no contemplan ninguna clase de comisión ni impuestos).
B20: 0 | C20: 44501 | D20: 44683 | E20: 44866 | F20: 45048 | G20: 45231 | H20: 45414 | I20: 45597 | J20: 45779
B21: PORTAFOLIO | C21: 0 | D21: 0.065745111 | E21: 0.079134165 | F21: 0.19940471 | G21: 0.11890853 | H21: 0.33206965 | I21: 0.31856385 | J21: 0.40400078
B22: IPC IRT | C22: 0 | D22: 0.010148339 | E22: -0.00057201166 | F22: 0.11545613 | G22: 0.020632278 | H22: 0.17776338 | I22: 0.084476143 | J22: 0.20420556

Sheet Portafolio Actual
B2: IPC Regresión a la media | D2: ='Último rebalanceo'!D2 -> 45414 | F2: TIIE 1 día promedio mensual | H2: ='Último rebalanceo'!H2 -> 0
B3: Valor inicial portafolio | D3: 25000
W4: #NA
B5: Ticker | C5: Compañía | D5: Títulos | E5: Costo Promedio Ponderado | F5: Costo total | G5: Último Cierre de mercado | H5: Valor mercado | I5: Dividendos Cobrados Totales | J5: Rendimiento Total | K5: % Portafolio Modelo | L5: GICS | S5: GICS únicos | T5: PM | U5: MP1 | V5: MP2 | X5: PM | Y5: MP1 | Z5: MP2
B6: {=IF(ROW(A1) <= COUNTA(_xlfn._xlws.FILTER('Último rebalanceo'!B$7:B$41, ('Último rebalanceo'!$K$7:$K$41>0)*ISNUMBER('Último rebalanceo'!$K$7:$K$41))), INDEX(_xlfn._xlws.FILTER('Último rebalanceo'!B$7:$B$41, ('Último rebalanceo'!$K$7:$K$41>0)*ISNUMBER('Último rebalanceo'!$K$7:$K$41)), ROW(A1)), "0")} -> GAPB | C6: =VLOOKUP(B6,GICS!$A:$B,2,0) -> Grupo Aeroportuario del Pacifico, S.A.B. de C.V. | D6: ='Último rebalanceo'!K7 -> 3 | E6: ='Último rebalanceo'!L7 -> 214.37476 | F6: =D6*E6 -> 643.12429 | G6: ='Último rebalanceo'!H7 -> 397.38 | H6: =D6*G6 -> 1192.14 | I6: 230.29 | J6: =(G6+I6/E6)/E6-1 -> 0.85868075 | K6: =H6/$H$43 -> 0.031836986 | L6: =VLOOKUP(B6,GICS!A:C,3,0) -> Industrial | S6: Consumo básico | T6: =SUMIF($L$6:$L$41,S6,$K$6:$K$41) -> 0.14993272 | U6: =SUMIF($L$6:$L$41,$S6,$K$54:$K$89) -> 0.1496119 | V6: =SUMIF($L$6:$L$41,$S6,$I$101:$I$136) -> 0.14807 | W6: {=IFERROR(INDEX(S$6:S$17, SMALL(IF(T$6:T$17>0, ROW(S$6:S$17)-ROW(S$6)+1), ROW(A1))),$W$4)} -> Consumo básico | X6: =IF($W6="", "", INDEX(T$6:T$17, MATCH($W6, $S$6:$S$17, 0))) -> 0.14993272 | Y6: =IF($W6="", "", INDEX(U$6:U$17, MATCH($W6, $S$6:$S$17, 0))) -> 0.1496119 | Z6: =IF($W6="", "", INDEX(V$6:V$17, MATCH($W6, $S$6:$S$17, 0))) -> 0.14807
B7: {=IF(ROW(A2) <= COUNTA(_xlfn._xlws.FILTER('Último rebalanceo'!B$7:B$41, ('Último rebalanceo'!$K$7:$K$41>0)*ISNUMBER('Último rebalanceo'!$K$7:$K$41))), INDEX(_xlfn._xlws.FILTER('Último rebalanceo'!B$7:$B$41, ('Último rebalanceo'!$K$7:$K$41>0)*ISNUMBER('Último rebalanceo'!$K$7:$K$41)), ROW(A2)), "0")} -> ALFAA | C7: =VLOOKUP(B7,GICS!$A:$B,2,0) -> Alfa SA A | D7: ='Último rebalanceo'!K8 -> 87 | E7: ='Último rebalanceo'!L8 -> 13.200222 | F7: =D7*E7 -> 1148.4193 | G7: ='Último rebalanceo'!H8 -> 14.23 | H7: =D7*G7 -> 1238.01 | I7: 22.575911 | J7: =(G7+I7/E7)/E7-1 -> 0.20757566 | K7: =H7/$H$43 -> 0.033061977 | L7: =VLOOKUP(B7,GICS!A:C,3,0) -> Industrial | S7: Industrial | T7: =SUMIF($L$6:$L$41,S7,$K$6:$K$41) -> 0.15608946 | U7: =SUMIF($L$6:$L$41,$S7,$K$54:$K$89) -> 0.15731853 | V7: =SUMIF($L$6:$L$41,$S7,$I$101:$I$136) -> 0.13804167 | W7: {=IFERROR(INDEX(S$6:S$17, SMALL(IF(T$6:T$17>0, ROW(S$6:S$17)-ROW(S$6)+1), ROW(A2))),$W$4)} -> Industrial | X7: =IF($W7="", "", INDEX(T$6:T$17, MATCH($W7, $S$6:$S$17, 0))) -> 0.15608946 | Y7: =IF($W7="", "", INDEX(U$6:U$17, MATCH($W7, $S$6:$S$17, 0))) -> 0.15731853 | Z7: =IF($W7="", "", INDEX(V$6:V$17, MATCH($W7, $S$6:$S$17, 0))) -> 0.13804167
B8: {=IF(ROW(A3) <= COUNTA(_xlfn._xlws.FILTER('Último rebalanceo'!B$7:B$41, ('Último rebalanceo'!$K$7:$K$41>0)*ISNUMBER('Último rebalanceo'!$K$7:$K$41))), INDEX(_xlfn._xlws.FILTER('Último rebalanceo'!B$7:$B$41, ('Último rebalanceo'!$K$7:$K$41>0)*ISNUMBER('Último rebalanceo'!$K$7:$K$41)), ROW(A3)), "0")} -> WALMEX | C8: =VLOOKUP(B8,GICS!$A:$B,2,0) -> Walmart de Mexico SAB de CV | D8: ='Último rebalanceo'!K9 -> 13 | E8: ='Último rebalanceo'!L9 -> 62.753415 | F8: =D8*E8 -> 815.7944 | G8: ='Último rebalanceo'!H9 -> 62.130001 | H8: =D8*G8 -> 807.69001 | I8: 59.2 | J8: =(G8+I8/E8)/E8-1 -> 0.0050987022 | K8: =H8/$H$43 -> 0.021569963 | L8: =VLOOKUP(B8,GICS!A:C,3,0) -> Consumo básico | S8: Consumo discrecional | T8: =SUMIF($L$6:$L$41,S8,$K$6:$K$41) -> 0.14785715 | U8: =SUMIF($L$6:$L$41,$S8,$K$54:$K$89) -> 0.14737554 | V8: =SUMIF($L$6:$L$41,$S8,$I$101:$I$136) -> 0.13869556 | W8: {=IFERROR(INDEX(S$6:S$17, SMALL(IF(T$6:T$17>0, ROW(S$6:S$17)-ROW(S$6)+1), ROW(A3))),$W$4)} -> Consumo discrecional | X8: =IF($W8="", "", INDEX(T$6:T$17, MATCH($W8, $S$6:$S$17, 0))) -> 0.14785715 | Y8: =IF($W8="", "", INDEX(U$6:U$17, MATCH($W8, $S$6:$S$17, 0))) -> 0.14737554 | Z8: =IF($W8="", "", INDEX(V$6:V$17, MATCH($W8, $S$6:$S$17, 0))) -> 0.13869556
B9: {=IF(ROW(A4) <= COUNTA(_xlfn._xlws.FILTER('Último rebalanceo'!B$7:B$41, ('Último rebalanceo'!$K$7:$K$41>0)*ISNUMBER('Último rebalanceo'!$K$7:$K$41))), INDEX(_xlfn._xlws.FILTER('Último rebalanceo'!B$7:$B$41, ('Último rebalanceo'!$K$7:$K$41>0)*ISNUMBER('Último rebalanceo'!$K$7:$K$41)), ROW(A4)), "0")} -> ORBIA | C9: =VLOOKUP(B9,GICS!$A:$B,2,0) -> ORBIA ADVANCE CORPORATION SAB de CV | D9: ='Último rebalanceo'!K10 -> 98 | E9: ='Último rebalanceo'!L10 -> 25.341344 | F9: =D9*E9 -> 2483.4517 | G9: ='Último rebalanceo'!H10 -> 13.24 | H9: =D9*G9 -> 1297.52 | I9: 40.427966 | J9: =(G9+I9/E9)/E9-1 -> -0.41457975 | K9: =H9/$H$43 -> 0.034651236 | L9: =VLOOKUP(B9,GICS!A:C,3,0) -> Materiales | S9: Materiales | T9: =SUMIF($L$6:$L$41,S9,$K$6:$K$41) -> 0.16634901 | U9: =SUMIF($L$6:$L$41,$S9,$K$54:$K$89) -> 0.16682879 | V9: =SUMIF($L$6:$L$41,$S9,$I$101:$I$136) -> 0.168055 | W9: {=IFERROR(INDEX(S$6:S$17, SMALL(IF(T$6:T$17>0, ROW(S$6:S$17)-ROW(S$6)+1), ROW(A4))),$W$4)} -> Materiales | X9: =IF($W9="", "", INDEX(T$6:T$17, MATCH($W9, $S$6:$S$17, 0))) -> 0.16634901 | Y9: =IF($W9="", "", INDEX(U$6:U$17, MATCH($W9, $S$6:$S$17, 0))) -> 0.16682879 | Z9: =IF($W9="", "", INDEX(V$6:V$17, MATCH($W9, $S$6:$S$17, 0))) -> 0.168055
B10: {=IF(ROW(A5) <= COUNTA(_xlfn._xlws.FILTER('Último rebalanceo'!B$7:B$41, ('Último rebalanceo'!$K$7:$K$41>0)*ISNUMBER('Último rebalanceo'!$K$7:$K$41))), INDEX(_xlfn._xlws.FILTER('Último rebalanceo'!B$7:$B$41, ('Último rebalanceo'!$K$7:$K$41>0)*ISNUMBER('Último rebalanceo'!$K$7:$K$41)), ROW(A5)), "0")} -> OMAB | C10: =VLOOKUP(B10,GICS!$A:$B,2,0) -> Grupo Aeroportuario del Centro Norte, S.A.B. de C.V. | D10: ='Último rebalanceo'!K11 -> 5 | E10: ='Último rebalanceo'!L11 -> 106.47656 | F10: =D10*E10 -> 532.3828 | G10: ='Último rebalanceo'!H11 -> 215.78999 | H10: =D10*G10 -> 1078.95 | I10: 424.67335 | J10: =(G10+I10/E10)/E10-1 -> 1.0641014 | K10: =H10/$H$43 -> 0.028814161 | L10: =VLOOKUP(B10,GICS!A:C,3,0) -> Industrial | S10: Financiero | T10: =SUMIF($L$6:$L$41,S10,$K$6:$K$41) -> 0.24031591 | U10: =SUMIF($L$6:$L$41,$S10,$K$54:$K$89) -> 0.23930009 | V10: =SUMIF($L$6:$L$41,$S10,$I$101:$I$136) -> 0.240125 | W10: {=IFERROR(INDEX(S$6:S$17, SMALL(IF(T$6:T$17>0, ROW(S$6:S$17)-ROW(S$6)+1), ROW(A5))),$W$4)} -> Financiero | X10: =IF($W10="", "", INDEX(T$6:T$17, MATCH($W10, $S$6:$S$17, 0))) -> 0.24031591 | Y10: =IF($W10="", "", INDEX(U$6:U$17, MATCH($W10, $S$6:$S$17, 0))) -> 0.23930009 | Z10: =IF($W10="", "", INDEX(V$6:V$17, MATCH($W10, $S$6:$S$17, 0))) -> 0.240125
B11: {=IF(ROW(A6) <= COUNTA(_xlfn._xlws.FILTER('Último rebalanceo'!B$7:B$41, ('Último rebalanceo'!$K$7:$K$41>0)*ISNUMBER('Último rebalanceo'!$K$7:$K$41))), INDEX(_xlfn._xlws.FILTER('Último rebalanceo'!B$7:$B$41, ('Último rebalanceo'!$K$7:$K$41>0)*ISNUMBER('Último rebalanceo'!$K$7:$K$41)), ROW(A6)), "0")} -> TLEVISACPO | C11: =VLOOKUP(B11,GICS!$A:$B,2,0) -> Grupo Televisa SAB CPO | D11: ='Último rebalanceo'!K12 -> 163 | E11: ='Último rebalanceo'!L12 -> 15.705863 | F11: =D11*E11 -> 2560.0557 | G11: ='Último rebalanceo'!H12 -> 7.1399999 | H11: =D11*G11 -> 1163.82 | I11: 113.4 | J11: =(G11+I11/E11)/E11-1 -> -0.085676933 | K11: =H11/$H$43 -> 0.031080678 | L11: =VLOOKUP(B11,GICS!A:C,3,0) -> Servicios de comunicación | S11: Cuidado de la salud | T11: =SUMIF($L$6:$L$41,S11,$K$6:$K$41) -> 0.031216878 | U11: =SUMIF($L$6:$L$41,$S11,$K$54:$K$89) -> 0.030451268 | V11: =SUMIF($L$6:$L$41,$S11,$I$101:$I$136) -> 0.031833333 | W11: {=IFERROR(INDEX(S$6:S$17, SMALL(IF(T$6:T$17>0, ROW(S$6:S$17)-ROW(S$6)+1), ROW(A6))),$W$4)} -> Cuidado de la salud | X11: =IF($W11="", "", INDEX(T$6:T$17, MATCH($W11, $S$6:$S$17, 0))) -> 0.031216878 | Y11: =IF($W11="", "", INDEX(U$6:U$17, MATCH($W11, $S$6:$S$17, 0))) -> 0.030451268 | Z11: =IF($W11="", "", INDEX(V$6:V$17, MATCH($W11, $S$6:$S$17, 0))) -> 0.031833333
B12: {=IF(ROW(A7) <= COUNTA(_xlfn._xlws.FILTER('Último rebalanceo'!B$7:B$41, ('Último rebalanceo'!$K$7:$K$41>0)*ISNUMBER('Último rebalanceo'!$K$7:$K$41))), INDEX(_xlfn._xlws.FILTER('Último rebalanceo'!B$7:$B$41, ('Último rebalanceo'!$K$7:$K$41>0)*ISNUMBER('Último rebalanceo'!$K$7:$K$41)), ROW(A7)), "0")} -> CEMEXCPO | C12: =VLOOKUP(B12,GICS!$A:$B,2,0) -> Cemex SA CPO | D12: ='Último rebalanceo'!K13 -> 76 | E12: ='Último rebalanceo'!L13 -> 10.886807 | F12: =D12*E12 -> 827.39735 | G12: ='Último rebalanceo'!H13 -> 12.13 | H12: =D12*G12 -> 921.88001 | I12: 0.405132 | J12: =(G12+I12/E12)/E12-1 -> 0.11761079 | K12: =H12/$H$43 -> 0.024619491 | L12: =VLOOKUP(B12,GICS!A:C,3,0) -> Materiales | S12: TI | T12: =SUMIF($L$6:$L$41,S12,$K$6:$K$41) -> 0 | U12: =SUMIF($L$6:$L$41,$S12,$K$54:$K$89) -> 0 | V12: =SUMIF($L$6:$L$41,$S12,$I$101:$I$136) -> 0 | W12: {=IFERROR(INDEX(S$6:S$17, SMALL(IF(T$6:T$17>0, ROW(S$6:S$17)-ROW(S$6)+1), ROW(A7))),$W$4)} -> Inmobiliario | X12: =IF($W12="", "", INDEX(T$6:T$17, MATCH($W12, $S$6:$S$17, 0))) -> 0.027207277 | Y12: =IF($W12="", "", INDEX(U$6:U$17, MATCH($W12, $S$6:$S$17, 0))) -> 0.026169414 | Z12: =IF($W12="", "", INDEX(V$6:V$17, MATCH($W12, $S$6:$S$17, 0))) -> 0.026809999
B13: {=IF(ROW(A8) <= COUNTA(_xlfn._xlws.FILTER('Último rebalanceo'!B$7:B$41, ('Último rebalanceo'!$K$7:$K$41>0)*ISNUMBER('Último rebalanceo'!$K$7:$K$41))), INDEX(_xlfn._xlws.FILTER('Último rebalanceo'!B$7:$B$41, ('Último rebalanceo'!$K$7:$K$41>0)*ISNUMBER('Último rebalanceo'!$K$7:$K$41)), ROW(A8)), "0")} -> PINFRA | C13: =VLOOKUP(B13,GICS!$A:$B,2,0) -> Promotora y Operadora de Infraestructura SAB de CV | D13: ='Último rebalanceo'!K14 -> 5 | E13: ='Último rebalanceo'!L14 -> 142.14873 | F13: =D13*E13 -> 710.74364 | G13: ='Último rebalanceo'!H14 -> 219.42999 | H13: =D13*G13 -> 1097.15 | I13: 128.19499 | J13: =(G13+I13/E13)/E13-1 -> 0.55000916 | K13: =H13/$H$43 -> 0.029300206 | L13: =VLOOKUP(B13,GICS!A:C,3,0) -> Industrial | S13: Inmobiliario | T13: =SUMIF($L$6:$L$41,S13,$K$6:$K$41) -> 0.027207277 | U13: =SUMIF($L$6:$L$41,$S13,$K$54:$K$89) -> 0.026169414 | V13: =SUMIF($L$6:$L$41,$S13,$I$101:$I$136) -> 0.026809999 | W13: {=IFERROR(INDEX(S$6:S$17, SMALL(IF(T$6:T$17>0, ROW(S$6:S$17)-ROW(S$6)+1), ROW(A8))),$W$4)} -> Servicios de comunicación | X13: =IF($W13="", "", INDEX(T$6:T$17, MATCH($W13, $S$6:$S$17, 0))) -> 0.078335958 | Y13: =IF($W13="", "", INDEX(U$6:U$17, MATCH($W13, $S$6:$S$17, 0))) -> 0.076618662 | Z13: =IF($W13="", "", INDEX(V$6:V$17, MATCH($W13, $S$6:$S$17, 0))) -> 0.077824444
B14: {=IF(ROW(A9) <= COUNTA(_xlfn._xlws.FILTER('Último rebalanceo'!B$7:B$41, ('Último rebalanceo'!$K$7:$K$41>0)*ISNUMBER('Último rebalanceo'!$K$7:$K$41))), INDEX(_xlfn._xlws.FILTER('Último rebalanceo'!B$7:$B$41, ('Último rebalanceo'!$K$7:$K$41>0)*ISNUMBER('Último rebalanceo'!$K$7:$K$41)), ROW(A9)), "0")} -> GMEXICOB | C14: =VLOOKUP(B14,GICS!$A:$B,2,0) -> Grupo Mexico SAB de CV B | D14: ='Último rebalanceo'!K15 -> 11 | E14: ='Último rebalanceo'!L15 -> 75.837009 | F14: =D14*E14 -> 834.2071 | G14: ='Último rebalanceo'!H15 -> 101.76 | H14: =D14*G14 -> 1119.36 | I14: 211.1 | J14: =(G14+I14/E14)/E14-1 -> 0.37853014 | K14: =H14/$H$43 -> 0.029893342 | L14: =VLOOKUP(B14,GICS!A:C,3,0) -> Materiales | S14: Servicios básicos | T14: =SUMIF($L$6:$L$41,S14,$K$6:$K$41) -> 0 | U14: =SUMIF($L$6:$L$41,$S14,$K$54:$K$89) -> 0 | V14: =SUMIF($L$6:$L$41,$S14,$I$101:$I$136) -> 0 | W14: {=IFERROR(INDEX(S$6:S$17, SMALL(IF(T$6:T$17>0, ROW(S$6:S$17)-ROW(S$6)+1), ROW(A9))),$W$4)} -> Efectivo | X14: =IF($W14="", "", INDEX(T$6:T$17, MATCH($W14, $S$6:$S$17, 0))) -> 0.0026956328 | Y14: =IF($W14="", "", INDEX(U$6:U$17, MATCH($W14, $S$6:$S$17, 0))) -> 0.0063258012 | Z14: =IF($W14="", "", INDEX(V$6:V$17, MATCH($W14, $S$6:$S$17, 0))) -> 0.030545007
B15: {=IF(ROW(A10) <= COUNTA(_xlfn._xlws.FILTER('Último rebalanceo'!B$7:B$41, ('Último rebalanceo'!$K$7:$K$41>0)*ISNUMBER('Último rebalanceo'!$K$7:$K$41))), INDEX(_xlfn._xlws.FILTER('Último rebalanceo'!B$7:$B$41, ('Último rebalanceo'!$K$7:$K$41>0)*ISNUMBER('Último rebalanceo'!$K$7:$K$41)), ROW(A10)), "0")} -> AC | C15: =VLOOKUP(B15,GICS!$A:$B,2,0) -> Arca Continental, SAB de CV | D15: ='Último rebalanceo'!K16 -> 4 | E15: ='Último rebalanceo'!L16 -> 136.77481 | F15: =D15*E15 -> 547.09926 | G15: ='Último rebalanceo'!H16 -> 206.53 | H15: =D15*G15 -> 826.12 | I15: 76.44 | J15: =(G15+I15/E15)/E15-1 -> 0.51408631 | K15: =H15/$H$43 -> 0.022062149 | L15: =VLOOKUP(B15,GICS!A:C,3,0) -> Consumo básico | S15: Energía | T15: =SUMIF($L$6:$L$41,S15,$K$6:$K$41) -> 0 | U15: =SUMIF($L$6:$L$41,$S15,$K$54:$K$89) -> 0 | V15: =SUMIF($L$6:$L$41,$S15,$I$101:$I$136) -> 0 | W15: {=IFERROR(INDEX(S$6:S$17, SMALL(IF(T$6:T$17>0, ROW(S$6:S$17)-ROW(S$6)+1), ROW(A10))),$W$4)} -> #NA | X15: =IF($W15="", "", INDEX(T$6:T$17, MATCH($W15, $S$6:$S$17, 0))) -> #N/A | Y15: =IF($W15="", "", INDEX(U$6:U$17, MATCH($W15, $S$6:$S$17, 0))) -> #N/A | Z15: =IF($W15="", "", INDEX(V$6:V$17, MATCH($W15, $S$6:$S$17, 0))) -> #N/A
B16: {=IF(ROW(A11) <= COUNTA(_xlfn._xlws.FILTER('Último rebalanceo'!B$7:B$41, ('Último rebalanceo'!$K$7:$K$41>0)*ISNUMBER('Último rebalanceo'!$K$7:$K$41))), INDEX(_xlfn._xlws.FILTER('Último rebalanceo'!B$7:$B$41, ('Último rebalanceo'!$K$7:$K$41>0)*ISNUMBER('Último rebalanceo'!$K$7:$K$41)), ROW(A11)), "0")} -> FEMSAUBD | C16: =VLOOKUP(B16,GICS!$A:$B,2,0) -> Fomento Economico Mexicano S.A.B. de C.V. | D16: ='Último rebalanceo'!K17 -> 3 | E16: ='Último rebalanceo'!L17 -> 171.46493 | F16: =D16*E16 -> 514.39478 | G16: ='Último rebalanceo'!H17 -> 206.19 | H16: =D16*G16 -> 618.57001 | I16: 64.9951 | J16: =(G16+I16/E16)/E16-1 -> 0.20473071 | K16: =H16/$H$43 -> 0.016519372 | L16: =VLOOKUP(B16,GICS!A:C,3,0) -> Consumo discrecional | S16: Servicios de comunicación | T16: =SUMIF($L$6:$L$41,S16,$K$6:$K$41) -> 0.078335958 | U16: =SUMIF($L$6:$L$41,$S16,$K$54:$K$89) -> 0.076618662 | V16: =SUMIF($L$6:$L$41,$S16,$I$101:$I$136) -> 0.077824444 | W16: {=IFERROR(INDEX(S$6:S$17, SMALL(IF(T$6:T$17>0, ROW(S$6:S$17)-ROW(S$6)+1), ROW(A11))),$W$4)} -> #NA | X16: =IF($W16="", "", INDEX(T$6:T$17, MATCH($W16, $S$6:$S$17, 0))) -> #N/A | Y16: =IF($W16="", "", INDEX(U$6:U$17, MATCH($W16, $S$6:$S$17, 0))) -> #N/A | Z16: =IF($W16="", "", INDEX(V$6:V$17, MATCH($W16, $S$6:$S$17, 0))) -> #N/A
B17: {=IF(ROW(A12) <= COUNTA(_xlfn._xlws.FILTER('Último rebalanceo'!B$7:B$41, ('Último rebalanceo'!$K$7:$K$41>0)*ISNUMBER('Último rebalanceo'!$K$7:$K$41))), INDEX(_xlfn._xlws.FILTER('Último rebalanceo'!B$7:$B$41, ('Último rebalanceo'!$K$7:$K$41>0)*ISNUMBER('Último rebalanceo'!$K$7:$K$41)), ROW(A12)), "0")} -> AMXB | C17: =VLOOKUP(B17,GICS!$A:$B,2,0) -> America Movil SAB de CV B | D17: ='Último rebalanceo'!K18 -> 34 | E17: ='Último rebalanceo'!L18 -> 15.950917 | F17: =D17*E17 -> 542.33118 | G17: ='Último rebalanceo'!H18 -> 16.969999 | H17: =D17*G17 -> 576.97998 | I17: 28.04 | J17: =(G17+I17/E17)/E17-1 -> 0.174095 | K17: =H17/$H$43 -> 0.015408679 | L17: =VLOOKUP(B17,GICS!A:C,3,0) -> Servicios de comunicación | S17: Efectivo | T17: =SUMIF($L$6:$L$41,S17,$K$6:$K$41) -> 0.0026956328 | U17: =SUMIF($L$6:$L$41,$S17,$K$54:$K$89) -> 0.0063258012 | V17: =SUMIF($L$6:$L$41,$S17,$I$101:$I$136) -> 0.030545007 | W17: {=IFERROR(INDEX(S$6:S$17, SMALL(IF(T$6:T$17>0, ROW(S$6:S$17)-ROW(S$6)+1), ROW(A12))),$W$4)} -> #NA | X17: =IF($W17="", "", INDEX(T$6:T$17, MATCH($W17, $S$6:$S$17, 0))) -> #N/A | Y17: =IF($W17="", "", INDEX(U$6:U$17, MATCH($W17, $S$6:$S$17, 0))) -> #N/A | Z17: =IF($W17="", "", INDEX(V$6:V$17, MATCH($W17, $S$6:$S$17, 0))) -> #N/A
B18: {=IF(ROW(A13) <= COUNTA(_xlfn._xlws.FILTER('Último rebalanceo'!B$7:B$41, ('Último rebalanceo'!$K$7:$K$41>0)*ISNUMBER('Último rebalanceo'!$K$7:$K$41))), INDEX(_xlfn._xlws.FILTER('Último rebalanceo'!B$7:$B$41, ('Último rebalanceo'!$K$7:$K$41>0)*ISNUMBER('Último rebalanceo'!$K$7:$K$41)), ROW(A13)), "0")} -> KOFUBL | C18: =VLOOKUP(B18,GICS!$A:$B,2,0) -> Coca-Cola Femsa SAB de CV UBL | D18: ='Último rebalanceo'!K19 -> 3 | E18: ='Último rebalanceo'!L19 -> 113.06493 | F18: =D18*E18 -> 339.19478 | G18: ='Último rebalanceo'!H19 -> 184.89 | H18: =D18*G18 -> 554.67 | I18: 101.55 | J18: =(G18+I18/E18)/E18-1 -> 0.64319884 | K18: =H18/$H$43 -> 0.014812875 | L18: =VLOOKUP(B18,GICS!A:C,3,0) -> Consumo básico
B19: {=IF(ROW(A14) <= COUNTA(_xlfn._xlws.FILTER('Último rebalanceo'!B$7:B$41, ('Último rebalanceo'!$K$7:$K$41>0)*ISNUMBER('Último rebalanceo'!$K$7:$K$41))), INDEX(_xlfn._xlws.FILTER('Último rebalanceo'!B$7:$B$41, ('Último rebalanceo'!$K$7:$K$41>0)*ISNUMBER('Último rebalanceo'!$K$7:$K$41)), ROW(A14)), "0")} -> ALSEA | C19: =VLOOKUP(B19,GICS!$A:$B,2,0) -> Alsea SA | D19: ='Último rebalanceo'!K20 -> 26 | E19: ='Último rebalanceo'!L20 -> 44.863606 | F19: =D19*E19 -> 1166.4537 | G19: ='Último rebalanceo'!H20 -> 43.970001 | H19: =D19*G19 -> 1143.22 | I19: 10.8 | J19: =(G19+I19/E19)/E19-1 -> -0.014552439 | K19: =H19/$H$43 -> 0.030530541 | L19: =VLOOKUP(B19,GICS!A:C,3,0) -> Consumo discrecional
B20: {=IF(ROW(A15) <= COUNTA(_xlfn._xlws.FILTER('Último rebalanceo'!B$7:B$41, ('Último rebalanceo'!$K$7:$K$41>0)*ISNUMBER('Último rebalanceo'!$K$7:$K$41))), INDEX(_xlfn._xlws.FILTER('Último rebalanceo'!B$7:$B$41, ('Último rebalanceo'!$K$7:$K$41>0)*ISNUMBER('Último rebalanceo'!$K$7:$K$41)), ROW(A15)), "0")} -> GRUMAB | C20: =VLOOKUP(B20,GICS!$A:$B,2,0) -> Gruma SAB B | D20: ='Último rebalanceo'!K21 -> 2 | E20: ='Último rebalanceo'!L21 -> 225.28848 | F20: =D20*E20 -> 450.57697 | G20: ='Último rebalanceo'!H21 -> 373.64999 | H20: =D20*G20 -> 747.29999 | I20: 34.28 | J20: =(G20+I20/E20)/E20-1 -> 0.65921555 | K20: =H20/$H$43 -> 0.019957202 | L20: =VLOOKUP(B20,GICS!A:C,3,0) -> Consumo básico
B21: {=IF(ROW(A16) <= COUNTA(_xlfn._xlws.FILTER('Último rebalanceo'!B$7:B$41, ('Último rebalanceo'!$K$7:$K$41>0)*ISNUMBER('Último rebalanceo'!$K$7:$K$41))), INDEX(_xlfn._xlws.FILTER('Último rebalanceo'!B$7:$B$41, ('Último rebalanceo'!$K$7:$K$41>0)*ISNUMBER('Último rebalanceo'!$K$7:$K$41)), ROW(A16)), "0")} -> ASURB | C21: =VLOOKUP(B21,GICS!$A:$B,2,0) -> Grupo Aeroportuario del Sureste SAB de CV B | D21: ='Último rebalanceo'!K22 -> 2 | E21: ='Último rebalanceo'!L22 -> 366.07857 | F21: =D21*E21 -> 732.15715 | G21: ='Último rebalanceo'!H22 -> 619.27002 | H21: =D21*G21 -> 1238.54 | I21: 151.92613 | J21: =(G21+I21/E21)/E21-1 -> 0.69276509 | K21: =H21/$H$43 -> 0.033076133 | L21: =VLOOKUP(B21,GICS!A:C,3,0) -> Industrial
B22: {=IF(ROW(A17) <= COUNTA(_xlfn._xlws.FILTER('Último rebalanceo'!B$7:B$41, ('Último rebalanceo'!$K$7:$K$41>0)*ISNUMBER('Último rebalanceo'!$K$7:$K$41))), INDEX(_xlfn._xlws.FILTER('Último rebalanceo'!B$7:$B$41, ('Último rebalanceo'!$K$7:$K$41>0)*ISNUMBER('Último rebalanceo'!$K$7:$K$41)), ROW(A17)), "0")} -> BIMBOA | C22: =VLOOKUP(B22,GICS!$A:$B,2,0) -> Grupo Bimbo S.A.B. | D22: ='Último rebalanceo'!K23 -> 18 | E22: ='Último rebalanceo'!L23 -> 61.790351 | F22: =D22*E22 -> 1112.2263 | G22: ='Último rebalanceo'!H23 -> 59.669998 | H22: =D22*G22 -> 1074.06 | I22: 36.5 | J22: =(G22+I22/E22)/E22-1 -> -0.024755413 | K22: =H22/$H$43 -> 0.02868357 | L22: =VLOOKUP(B22,GICS!A:C,3,0) -> Consumo básico
B23: {=IF(ROW(A18) <= COUNTA(_xlfn._xlws.FILTER('Último rebalanceo'!B$7:B$41, ('Último rebalanceo'!$K$7:$K$41>0)*ISNUMBER('Último rebalanceo'!$K$7:$K$41))), INDEX(_xlfn._xlws.FILTER('Último rebalanceo'!B$7:$B$41, ('Último rebalanceo'!$K$7:$K$41>0)*ISNUMBER('Último rebalanceo'!$K$7:$K$41)), ROW(A18)), "0")} -> PE&OLES | C23: =VLOOKUP(B23,GICS!$A:$B,2,0) -> Industrias Penoles | D23: ='Último rebalanceo'!K24 -> 4 | E23: ='Último rebalanceo'!L24 -> 261.60173 | F23: =D23*E23 -> 1046.4069 | G23: ='Último rebalanceo'!H24 -> 392.98999 | H23: =D23*G23 -> 1571.96 | I23: 0.3774 | J23: =(G23+I23/E23)/E23-1 -> 0.50225091 | K23: =H23/$H$43 -> 0.04198036 | L23: =VLOOKUP(B23,GICS!A:C,3,0) -> Materiales
B24: {=IF(ROW(A19) <= COUNTA(_xlfn._xlws.FILTER('Último rebalanceo'!B$7:B$41, ('Último rebalanceo'!$K$7:$K$41>0)*ISNUMBER('Último rebalanceo'!$K$7:$K$41))), INDEX(_xlfn._xlws.FILTER('Último rebalanceo'!B$7:$B$41, ('Último rebalanceo'!$K$7:$K$41>0)*ISNUMBER('Último rebalanceo'!$K$7:$K$41)), ROW(A19)), "0")} -> BBAJIOO | C24: =VLOOKUP(B24,GICS!$A:$B,2,0) -> Banco del Bajio, S.A. | D24: ='Último rebalanceo'!K25 -> 29 | E24: ='Último rebalanceo'!L25 -> 36.9369 | F24: =D24*E24 -> 1071.1701 | G24: ='Último rebalanceo'!H25 -> 47.060001 | H24: =D24*G24 -> 1364.74 | I24: 381.94137 | J24: =(G24+I24/E24)/E24-1 -> 0.55401174 | K24: =H24/$H$43 -> 0.036446398 | L24: =VLOOKUP(B24,GICS!A:C,3,0) -> Financiero
B25: {=IF(ROW(A20) <= COUNTA(_xlfn._xlws.FILTER('Último rebalanceo'!B$7:B$41, ('Último rebalanceo'!$K$7:$K$41>0)*ISNUMBER('Último rebalanceo'!$K$7:$K$41))), INDEX(_xlfn._xlws.FILTER('Último rebalanceo'!B$7:$B$41, ('Último rebalanceo'!$K$7:$K$41>0)*ISNUMBER('Último rebalanceo'!$K$7:$K$41)), ROW(A20)), "0")} -> CUERVO | C25: =VLOOKUP(B25,GICS!$A:$B,2,0) -> Becle, S.A. De C.V. | D25: ='Último rebalanceo'!K26 -> 31 | E25: ='Último rebalanceo'!L26 -> 31.472067 | F25: =D25*E25 -> 975.63407 | G25: ='Último rebalanceo'!H26 -> 22.67 | H25: =D25*G25 -> 702.77 | I25: 17.65188 | J25: =(G25+I25/E25)/E25-1 -> -0.26185735 | K25: =H25/$H$43 -> 0.018767996 | L25: =VLOOKUP(B25,GICS!A:C,3,0) -> Consumo discrecional
B26: {=IF(ROW(A21) <= COUNTA(_xlfn._xlws.FILTER('Último rebalanceo'!B$7:B$41, ('Último rebalanceo'!$K$7:$K$41>0)*ISNUMBER('Último rebalanceo'!$K$7:$K$41))), INDEX(_xlfn._xlws.FILTER('Último rebalanceo'!B$7:$B$41, ('Último rebalanceo'!$K$7:$K$41>0)*ISNUMBER('Último rebalanceo'!$K$7:$K$41)), ROW(A21)), "0")} -> BOLSAA | C26: =VLOOKUP(B26,GICS!$A:$B,2,0) -> Bolsa Mexicana de Valores SA de CV | D26: ='Último rebalanceo'!K27 -> 24 | E26: ='Último rebalanceo'!L27 -> 32.188479 | F26: =D26*E26 -> 772.52351 | G26: ='Último rebalanceo'!H27 -> 41.32 | H26: =D26*G26 -> 991.67999 | I26: 129.28 | J26: =(G26+I26/E26)/E26-1 -> 0.4084649 | K26: =H26/$H$43 -> 0.026483552 | L26: =VLOOKUP(B26,GICS!A:C,3,0) -> Financiero
B27: {=IF(ROW(A22) <= COUNTA(_xlfn._xlws.FILTER('Último rebalanceo'!B$7:B$41, ('Último rebalanceo'!$K$7:$K$41>0)*ISNUMBER('Último rebalanceo'!$K$7:$K$41))), INDEX(_xlfn._xlws.FILTER('Último rebalanceo'!B$7:$B$41, ('Último rebalanceo'!$K$7:$K$41>0)*ISNUMBER('Último rebalanceo'!$K$7:$K$41)), ROW(A22)), "0")} -> VESTA | C27: =VLOOKUP(B27,GICS!$A:$B,2,0) -> Corporacion Inmobiliaria Vesta, S.A.B. DE C.V. | D27: ='Último rebalanceo'!K28 -> 19 | E27: ='Último rebalanceo'!L28 -> 45.58976 | F27: =D27*E27 -> 866.20543 | G27: ='Último rebalanceo'!H28 -> 53.619999 | H27: =D27*G27 -> 1018.78 | I27: 15.042142 | J27: =(G27+I27/E27)/E27-1 -> 0.18337857 | K27: =H27/$H$43 -> 0.027207277 | L27: =VLOOKUP(B27,GICS!A:C,3,0) -> Inmobiliario
B28: {=IF(ROW(A23) <= COUNTA(_xlfn._xlws.FILTER('Último rebalanceo'!B$7:B$41, ('Último rebalanceo'!$K$7:$K$41>0)*ISNUMBER('Último rebalanceo'!$K$7:$K$41))), INDEX(_xlfn._xlws.FILTER('Último rebalanceo'!B$7:$B$41, ('Último rebalanceo'!$K$7:$K$41>0)*ISNUMBER('Último rebalanceo'!$K$7:$K$41)), ROW(A23)), "0")} -> LIVEPOLC-1 | C28: =VLOOKUP(B28,GICS!$A:$B,2,0) -> El Puerto de Liverpool SAB de CV | D28: ='Último rebalanceo'!K29 -> 9 | E28: ='Último rebalanceo'!L29 -> 119.63284 | F28: =D28*E28 -> 1076.6955 | G28: ='Último rebalanceo'!H29 -> 90.309998 | H28: =D28*G28 -> 812.78998 | I28: 44.95 | J28: =(G28+I28/E28)/E28-1 -> -0.24196623 | K28: =H28/$H$43 -> 0.021706161 | L28: =VLOOKUP(B28,GICS!A:C,3,0) -> Consumo discrecional
B29: {=IF(ROW(A24) <= COUNTA(_xlfn._xlws.FILTER('Último rebalanceo'!B$7:B$41, ('Último rebalanceo'!$K$7:$K$41>0)*ISNUMBER('Último rebalanceo'!$K$7:$K$41))), INDEX(_xlfn._xlws.FILTER('Último rebalanceo'!B$7:$B$41, ('Último rebalanceo'!$K$7:$K$41>0)*ISNUMBER('Último rebalanceo'!$K$7:$K$41)), ROW(A24)), "0")} -> LABB | C29: =VLOOKUP(B29,GICS!$A:$B,2,0) -> Genomma Lab Internacional SA de CV | D29: ='Último rebalanceo'!K30 -> 51 | E29: ='Último rebalanceo'!L30 -> 16.600909 | F29: =D29*E29 -> 846.64635 | G29: ='Último rebalanceo'!H30 -> 22.92 | H29: =D29*G29 -> 1168.92 | I29: 132.6589 | J29: =(G29+I29/E29)/E29-1 -> 0.86201025 | K29: =H29/$H$43 -> 0.031216878 | L29: =VLOOKUP(B29,GICS!A:C,3,0) -> Cuidado de la Salud
... B40: {=IF(ROW(A35) <= COUNTA(_xlfn._xlws.FILTER('Último rebalanceo'!B$7:B$41, ('Último rebalanceo'!$K$7:$K$41>0)*ISNUMBER('Último rebalanceo'!$K$7:$K$41))), INDEX(_xlfn._xlws.FILTER('Último rebalanceo'!B$7:$B$41, ('Último rebalanceo'!$K$7:$K$41>0)*ISNUMBER('Último rebalanceo'!$K$7:$K$41)), ROW(A35)), "0")} -> LACOMERUBC | C40: =VLOOKUP(B40,GICS!$A:$B,2,0) -> La Comer, S.A.B. de C.V. | D40: ='Último rebalanceo'!K41 -> 23 | E40: ='Último rebalanceo'!L41 -> 36.380001 | F40: =D40*E40 -> 836.74002 | G40: ='Último rebalanceo'!H41 -> 36.709999 | H40: =D40*G40 -> 844.32998 | I40: 6.348 | J40: =(G40+I40/E40)/E40-1 -> 0.013867222 | K40: =H40/$H$43 -> 0.02254846 | L40: =VLOOKUP(B40,GICS!A:C,3,0) -> Consumo básico
B41: EFECTIVO | D41: ='Último rebalanceo'!K46 -> 100.93832 | E41: ='Último rebalanceo'!L46 -> 0 | F41: =D41*E41 -> 0 | H41: =D41 -> 100.93832 | I41: =SUM(I6:I40)/D3 -> 0.15158836 | K41: =H41/$H$43 -> 0.0026956328 | L41: =B41 -> EFECTIVO
B43: TOTAL | H43: =SUM(H6:H41) -> 37445.128 | I43: Rend. Simple | J43: =H43/D3-1 -> 0.49780512 | K43: =SUM(K6:K41) -> 1
I44: Rend. Logarítmico | J44: =LN(H43/D3) -> 0.40400078
B46: SEGUIMIENTO HISTÓRICO DE MI PORTAFOLIO
B47: Valor inicial portafolio | D47: 25000
B48: Aportaciones netas históricas (depósitos - retiros) | D48: 0
B49: PUEDES AGREGAR LOS DIVIDENDOS COBRADOS HISTÓRICOS POR EMISORA PARA CALCULAR SU RENDIMIENTO TOTAL (SI NO SE AGREGAN, SE VUELVE RENDIMIENTO SIMPLE). AGREGARLOS O NO, NO AFECTA EL CÁLCULO DEL RENDIMIENTO TOTAL DEL PORTAFOLIO
B52: Mi Portafolio
B53: Ticker | C53: Compañía | D53: Títulos | E53: Costo Promedio Ponderado | F53: Costo total | G53: Último Cierre de mercado | H53: Valor mercado | I53: Dividendos Cobrados Totales | J53: Rendimiento Total | K53: % Mi Portafolio | L53: % Portafolio Modelo | M53: Diferencia vs Portafolio Modelo
B54: =B6 -> GAPB | C54: =C6 -> Grupo Aeroportuario del Pacifico, S.A.B. de C.V. | D54: ='Último rebalanceo'!K98 -> 3 | E54: ='Último rebalanceo'!L98 -> 214.37476 | F54: =D54*E54 -> 643.12429 | G54: =G6 -> 397.38 | H54: =D54*G54 -> 1192.14 | I54: 0 | J54: =(H54+I54)/F54-1 -> 0.85366972 | K54: =H54/$H$91 -> 0.032323766 | L54: =K6 -> 0.031836986 | M54: =K54-L54 -> 0.00048677986
B55: =B7 -> ALFAA | C55: =C7 -> Alfa SA A | D55: ='Último rebalanceo'!K99 -> 84 | E55: ='Último rebalanceo'!L99 -> 13.028009 | F55: =D55*E55 -> 1094.3527 | G55: =G7 -> 14.23 | H55: =D55*G55 -> 1195.32 | I55: 0 | J55: =(H55+I55)/F55-1 -> 0.092262039 | K55: =H55/$H$91 -> 0.032409987 | L55: =K7 -> 0.033061977 | M55: =K55-L55 -> -0.00065198986
...

Sheet Último rebalanceo
B2: IPC Regresión a la media | D2: 45414 | F2: TIIE 1 día promedio mensual | H2: 0 | J2: 0.0978
B3: Valor inicial portafolio | D3: 25000 | J3: 0
D5: ANTERIOR | K5: NUEVO
B6: Ticker | C6: Compañía | D6: Títulos | E6: Costo Promedio Ponderado | F6: Precio mercado inicio rebalanceo | G6: % Portafolio Modelo | H6: Precio mercado final rebalanceo | I6: Dividendos cobrados en el período | J6: Rendimiento Total del período | K6: Títulos | L6: Costo Promedio Ponderado | M6: Valor mercado | N6: % Portafolio Modelo | O6: Diferencia vs anterior
B7: GAPB | C7: =IFERROR(VLOOKUP(B7,GICS!$A:$B,2,0),0) -> Grupo Aeroportuario del Pacifico, S.A.B. de C.V. | D7: 4 | E7: 214.37476 | F7: 348.54999 | G7: =D7*F7/$F$48 -> 0.040554078 | H7: 397.38 | I7: 27.72 | J7: =(H7+I7/D7)/F7-1 -> 0.1599771 | K7: =D7+D51 -> 3 | L7: =IF(K7>0,IF(K7>D7,(D7*E7+(K7-D7)*E51)/K7,E7),0) -> 214.37476 | M7: =K7*H7 -> 1192.14 | N7: =M7/$M$48 -> 0.031836986 | O7: =N7-G7 -> -0.0087170922
B8: ALFAA | C8: =IFERROR(VLOOKUP(B8,GICS!$A:$B,2,0),0) -> Alfa SA A | D8: 63 | E8: 12.807926 | F8: 14.44 | G8: =D8*F8/$F$48 -> 0.026461668 | H8: 14.23 | I8: 18.487979 | J8: =(H8+I8/D8)/F8-1 -> 0.0057797453 | K8: =D8+D52 -> 87 | L8: =IF(K8>0,IF(K8>D8,(D8*E8+(K8-D8)*E52)/K8,E8),0) -> 13.200222 | M8: =K8*H8 -> 1238.01 | N8: =M8/$M$48 -> 0.033061977 | O8: =N8-G8 -> 0.0066003092
B9: WALMEX | C9: =IFERROR(VLOOKUP(B9,GICS!$A:$B,2,0),0) -> Walmart de Mexico SAB de CV | D9: 15 | E9: 62.753415 | F9: 55.25 | G9: =D9*F9/$F$48 -> 0.024106436 | H9: 62.130001 | I9: 32.55 | J9: =(H9+I9/D9)/F9-1 -> 0.16380092 | K9: =D9+D53 -> 13 | L9: =IF(K9>0,IF(K9>D9,(D9*E9+(K9-D9)*E53)/K9,E9),0) -> 62.753415 | M9: =K9*H9 -> 807.69001 | N9: =M9/$M$48 -> 0.021569963 | O9: =N9-G9 -> -0.0025364736
B10: ORBIA | C10: =IFERROR(VLOOKUP(B10,GICS!$A:$B,2,0),0) -> ORBIA ADVANCE CORPORATION SAB de CV | D10: 66 | E10: 31.208663 | F10: 18.33 | G10: =D10*F10/$F$48 -> 0.035189725 | H10: 13.24 | I10: 1.38501 | J10: =(H10+I10/D10)/F10-1 -> -0.27654202 | K10: =D10+D54 -> 98 | L10: =IF(K10>0,IF(K10>D10,(D10*E10+(K10-D10)*E54)/K10,E10),0) -> 25.341344 | M10: =K10*H10 -> 1297.52 | N10: =M10/$M$48 -> 0.034651236 | O10: =N10-G10 -> -0.00053848855
B11: OMAB | C11: =IFERROR(VLOOKUP(B11,GICS!$A:$B,2,0),0) -> Grupo Aeroportuario del Centro Norte, S.A.B. de C.V. | D11: 8 | E11: 106.47656 | F11: 166.88001 | G11: =D11*F11/$F$48 -> 0.038833252 | H11: 215.78999 | I11: 0 | J11: =(H11+I11/D11)/F11-1 -> 0.29308477 | K11: =D11+D55 -> 5 | L11: =IF(K11>0,IF(K11>D11,(D11*E11+(K11-D11)*E55)/K11,E11),0) -> 106.47656 | M11: =K11*H11 -> 1078.95 | N11: =M11/$M$48 -> 0.028814161 | O11: =N11-G11 -> -0.01001909
B12: TLEVISACPO | C12: =IFERROR(VLOOKUP(B12,GICS!$A:$B,2,0),0) -> Grupo Televisa SAB CPO | D12: 147 | E12: 16.638202 | F12: 9.9 | G12: =D12*F12/$F$48 -> 0.042331338 | H12: 7.1399999 | I12: 0 | J12: =(H12+I12/D12)/F12-1 -> -0.27878789 | K12: =D12+D56 -> 163 | L12: =IF(K12>0,IF(K12>D12,(D12*E12+(K12-D12)*E56)/K12,E12),0) -> 15.705863 | M12: =K12*H12 -> 1163.82 | N12: =M12/$M$48 -> 0.031080678 | O12: =N12-G12 -> -0.01125066
B13: CEMEXCPO | C13: =IFERROR(VLOOKUP(B13,GICS!$A:$B,2,0),0) -> Cemex SA CPO | D13: 88 | E13: 10.886807 | F13: 10.49 | G13: =D13*F13/$F$48 -> 0.026851443 | H13: 12.13 | I13: 0 | J13: =(H13+I13/D13)/F13-1 -> 0.15633938 | K13: =D13+D57 -> 76 | L13: =IF(K13>0,IF(K13>D13,(D13*E13+(K13-D13)*E57)/K13,E13),0) -> 10.886807 | M13: =K13*H13 -> 921.88001 | N13: =M13/$M$48 -> 0.024619491 | O13: =N13-G13 -> -0.0022319516
B14: PINFRA | C14: =IFERROR(VLOOKUP(B14,GICS!$A:$B,2,0),0) -> Promotora y Operadora de Infraestructura SAB de CV | D14: 6 | E14: 142.14873 | F14: 174.34 | G14: =D14*F14/$F$48 -> 0.030426903 | H14: 219.42999 | I14: 15.999084 | J14: =(H14+I14/D14)/F14-1 -> 0.27392745 | K14: =D14+D58 -> 5 | L14: =IF(K14>0,IF(K14>D14,(D14*E14+(K14-D14)*E58)/K14,E14),0) -> 142.14873 | M14: =K14*H14 -> 1097.15 | N14: =M14/$M$48 -> 0.029300206 | O14: =N14-G14 -> -0.0011266972
B15: GMEXICOB | C15: =IFERROR(VLOOKUP(B15,GICS!$A:$B,2,0),0) -> Grupo Mexico SAB de CV B | D15: 11 | E15: 75.837009 | F15: 104.99 | G15: =D15*F15/$F$48 -> 0.0335931 | H15: 101.76 | I15: 26.4 | J15: =(H15+I15/D15)/F15-1 -> -0.0079054756 | K15: =D15+D59 -> 11 | L15: =IF(K15>0,IF(K15>D15,(D15*E15+(K15-D15)*E59)/K15,E15),0) -> 75.837009 | M15: =K15*H15 -> 1119.36 | N15: =M15/$M$48 -> 0.029893342 | O15: =N15-G15 -> -0.0036997578
B16: AC | C16: =IFERROR(VLOOKUP(B16,GICS!$A:$B,2,0),0) -> Arca Continental, SAB de CV | D16: 4 | E16: 136.77481 | F16: 170.69 | G16: =D16*F16/$F$48 -> 0.019859922 | H16: 206.53 | I16: 16.48 | J16: =(H16+I16/D16)/F16-1 -> 0.2341086 | K16: =D16+D60 -> 4 | L16: =IF(K16>0,IF(K16>D16,(D16*E16+(K16-D16)*E60)/K16,E16),0) -> 136.77481 | M16: =K16*H16 -> 826.12 | N16: =M16/$M$48 -> 0.022062149 | O16: =N16-G16 -> 0.0022022267
B17: FEMSAUBD | C17: =IFERROR(VLOOKUP(B17,GICS!$A:$B,2,0),0) -> Fomento Economico Mexicano S.A.B. de C.V. | D17: 2 | E17: 154.10239 | F17: 193.85001 | G17: =D17*F17/$F$48 -> 0.011277304 | H17: 206.19 | I17: 5.0542 | J17: =(H17+I17/D17)/F17-1 -> 0.076693815 | K17: =D17+D61 -> 3 | L17: =IF(K17>0,IF(K17>D17,(D17*E17+(K17-D17)*E61)/K17,E17),0) -> 171.46493 | M17: =K17*H17 -> 618.57001 | N17: =M17/$M$48 -> 0.016519372 | O17: =N17-G17 -> 0.0052420683
B18: AMXB | C18: =IFERROR(VLOOKUP(B18,GICS!$A:$B,2,0),0) -> America Movil SAB de CV B | D18: 37 | E18: 15.950917 | F18: 15.83 | G18: =D18*F18/$F$48 -> 0.01703696 | H18: 16.969999 | I18: 0 | J18: =(H18+I18/D18)/F18-1 -> 0.072015118 | K18: =D18+D62 -> 34 | L18: =IF(K18>0,IF(K18>D18,(D18*E18+(K18-D18)*E62)/K18,E18),0) -> 15.950917 | M18: =K18*H18 -> 576.97998 | N18: =M18/$M$48 -> 0.015408679 | O18: =N18-G18 -> -0.0016282807
... B40: CHDRAUIB | C40: =IFERROR(VLOOKUP(B40,GICS!$A:$B,2,0),0) -> Grupo Comercial Chedraui SA de CV | D40: 4 | E40: 104.0453 | F40: 126.72 | G40: =D40*F40/$F$48 -> 0.014743976 | H40: 126.68 | I40: 8.328 | J40: =(H40+I40/D40)/F40-1 -> 0.016114262 | K40: =D40+D84 -> 6 | L40: =IF(K40>0,IF(K40>D40,(D40*E40+(K40-D40)*E84)/K40,E40),0) -> 111.5902 | M40: =K40*H40 -> 760.08 | N40: =M40/$M$48 -> 0.020298502 | O40: =N40-G40 -> 0.0055545254
B41: LACOMERUBC | C41: =IFERROR(VLOOKUP(B41,GICS!$A:$B,2,0),0) -> La Comer, S.A.B. de C.V. | D41: 23 | E41: 36.380001 | F41: 36.380001 | G41: =D41*F41/$F$48 -> 0.024338848 | H41: 36.709999 | I41: 6.348 | J41: =(H41+I41/D41)/F41-1 -> 0.016657451 | K41: =D41+D89 -> 23 | L41: =IF(K41>0,IF(K41>D41,(D41*E41+(K41-D41)*E89)/K41,E41),0) -> 36.380001 | M41: =K41*H41 -> 844.32998 | N41: =M41/$M$48 -> 0.02254846 | O41: =N41-G41 -> -0.0017903875
B42: 0 | C42: =IFERROR(VLOOKUP(B42,GICS!$A:$B,2,0),0) -> 0 | D42: 0 | E42: 0 | F42: 0 | G42: =D42*F42/$F$48 -> 0 | H42: 0 | I42: 0 | J42: =(H42+I42/D42)/F42-1 -> #DIV/0! | K42: 0 | L42: =IF(K42>0,IF(K42>D42,(D42*E42+(K42-D42)*E90)/K42,E42),0) -> 0 | M42: =K42*H42 -> 0 | N42: =M42/$M$48 -> 0 | O42: =N42-G42 -> 0
B43: 0 | C43: =IFERROR(VLOOKUP(B43,GICS!$A:$B,2,0),0) -> 0 | D43: 0 | E43: 0 | F43: 0 | G43: =D43*F43/$F$48 -> 0 | H43: 0 | I43: 0 | J43: =(H43+I43/D43)/F43-1 -> #DIV/0! | K43: 0 | L43: =IF(K43>0,IF(K43>D43,(D43*E43+(K43-D43)*E91)/K43,E43),0) -> 0 | M43: =K43*H43 -> 0 | N43: =M43/$M$48 -> 0 | O43: =N43-G43 -> 0
B44: 0 | C44: =IFERROR(VLOOKUP(B44,GICS!$A:$B,2,0),0) -> 0 | D44: 0 | E44: 0 | F44: 0 | G44: =D44*F44/$F$48 -> 0 | H44: 0 | I44: 0 | J44: =(H44+I44/D44)/F44-1 -> #DIV/0! | K44: 0 | L44: =IF(K44>0,IF(K44>D44,(D44*E44+(K44-D44)*E92)/K44,E44),0) -> 0 | M44: =K44*H44 -> 0 | N44: =M44/$M$48 -> 0 | O44: =N44-G44 -> 0
B45: 0 | C45: =IFERROR(VLOOKUP(B45,GICS!$A:$B,2,0),0) -> 0 | D45: 0 | E45: 0 | F45: 0 | G45: =D45*F45/$F$48 -> 0 | H45: 0 | I45: 0 | J45: =(H45+I45/D45)/F45-1 -> #DIV/0! | K45: 0 | L45: =IF(K45>0,IF(K45>D45,(D45*E45+(K45-D45)*E93)/K45,E45),0) -> 0 | M45: =K45*H45 -> 0 | N45: =M45/$M$48 -> 0 | O45: =N45-G45 -> 0
B46: EFECTIVO | D46: 275.29569 | E46: 0 | F46: 0 | G46: =D46/$F$48 -> 0.00800772 | H46: =D46*(1+H2)^(180/360) -> 275.29569 | J46: =H46/D46-1 -> 0 | K46: =H46+I48-SUMPRODUCT(D51:D89,E51:E89) -> 100.93832 | M46: =K46 -> 100.93832 | N46: =M46/$M$48 -> 0.0026956328 | O46: =N46-G46 -> -0.0053120871
B48: TOTAL | F48: =SUMPRODUCT(D7:D41,F7:F41)+D46 -> 34378.785 | G48: =SUM(G7:G46) -> 1 | H48: =SUMPRODUCT(D7:D41,H7:H41)+H46 -> 37174.065 | I48: =SUM(I7:I46) -> 271.06264 | J48: =(H48+I48)/F48-1 -> 0.08919287 | K48: Rend. Simple | M48: =SUM(M7:M46) -> 37445.128 | N48: =SUM(N7:N46) -> 1 | O48: =SUMIF(O7:O46,">0",O7:O46) -> 0.069998491
J49: =LN((H48+I48)/F48) -> 0.085436936 | K49: Rend. Logarítmico
B50: =CONCATENATE("Movimientos ",TEXT(D2,"dd-mm-yyyy")," (precios MXN cierre):") -> Movimientos 02-05-2024 (precios MXN cierre): | D50: Compra (Venta) | E50: Precio
B51: =B7 -> GAPB | C51: =C7 -> Grupo Aeroportuario del Pacifico, S.A.B. de C.V. | D51: -1 | E51: =H7 -> 397.38
B52: =B8 -> ALFAA | C52: =C8 -> Alfa SA A | D52: 24 | E52: =H8 -> 14.23
B53: =B9 -> WALMEX | C53: =C9 -> Walmart de Mexico SAB de CV | D53: -2 | E53: =H9 -> 62.130001
B54: =B10 -> ORBIA | C54: =C10 -> ORBIA ADVANCE CORPORATION SAB de CV | D54: 32 | E54: =H10 -> 13.24
B55: =B11 -> OMAB | C55: =C11 -> Grupo Aeroportuario del Centro Norte, S.A.B. de C.V. | D55: -3 | E55: =H11 -> 215.78999
B56: =B12 -> TLEVISACPO | C56: =C12 -> Grupo Televisa SAB CPO | D56: 16 | E56: =H12 -> 7.1399999
B57: =B13 -> CEMEXCPO | C57: =C13 -> Cemex SA CPO | D57: -12 | E57: =H13 -> 12.13
B58: =B14 -> PINFRA | C58: =C14 -> Promotora y Operadora de Infraestructura SAB de CV | D58: -1 | E58: =H14 -> 219.42999
B59: =B15 -> GMEXICOB | C59: =C15 -> Grupo Mexico SAB de CV B | D59: 0 | E59: =H15 -> 101.76
B60: =B16 -> AC | C60: =C16 -> Arca Continental, SAB de CV | D60: 0 | E60: =H16 -> 206.53
B61: =B17 -> FEMSAUBD | C61: =C17 -> Fomento Economico Mexicano S.A.B. de C.V. | D61: 1 | E61: =H17 -> 206.19
B62: =B18 -> AMXB | C62: =C18 -> America Movil SAB de CV B | D62: -3 | E62: =H18 -> 16.969999
... B89: =B45 -> 0 | C89: =C45 -> 0 | D89: 0 | E89: =H45 -> 0
B92: REBALANCEO DE MI PORTAFOLIO
...

Sheet 12M anteriores
A1: 0 | B1: 45230 | C1: al 30-Abr-24 | D1: 45412 | E1: al 31-Oct-24
A2: Ticker | B2: Títulos | C2: Valor final | D2: Títulos | E2: Valor final
A3: GAPB | B3: 7 | C3: 2138.9478 | D3: 4 | E3: 1394.2
A4: ALFAA | B4: 71 | C4: 890.34 | D4: 63 | E4: 909.72
A5: WALMEX | B5: 13 | C5: 797.94289 | D5: 15 | E5: 828.75
A6: ORBIA | B6: 39 | C6: 1091.5486 | D6: 66 | E6: 1209.78
A7: OMAB | B7: 10 | C7: 1782.9382 | D7: 8 | E7: 1335.04
A8: TLEVISACPO | B8: 198 | C8: 1929.6601 | D8: 147 | E8: 1455.3
A9: CEMEXCPO | B9: 98 | C9: 1327.6681 | D9: 88 | E9: 923.12
A10: PINFRA | B10: 7 | C10: 1182.5934 | D10: 6 | E10: 1046.04
A11: GMEXICOB | B11: 12 | C11: 1244.7996 | D11: 11 | E11: 1154.89
A12: AC | B12: 3 | C12: 492.87964 | D12: 4 | E12: 682.76001
A13: FEMSAUBD | B13: 2 | C13: 402.95999 | D13: 2 | E13: 387.70001
A14: AMXB | B14: 32 | C14: 507.0199 | D14: 37 | E14: 585.71
... A42: EFECTIVO | B42: 1 | C42: 278.95261 | D42: 1 | E42: 275.29569
A43: TOTAL | C43: =SUM(C3:C42) -> 34846.248 | E43: =SUM(E3:E42) -> 34378.785

Sheet GICS
A1: AC | B1: Arca Continental, SAB de CV | C1: Consumo básico
A2: ALFAA | B2: Alfa SA A | C2: Industrial
A3: ALSEA | B3: Alsea SA | C3: Consumo discrecional
A4: AMXB | B4: America Movil SAB de CV B | C4: Servicios de comunicación
A5: ASURB | B5: Grupo Aeroportuario del Sureste SAB de CV B | C5: Industrial
A6: BBAJIOO | B6: Banco del Bajio, S.A. | C6: Financiero
A7: BIMBOA | B7: Grupo Bimbo S.A.B. | C7: Consumo básico
A8: BOLSAA | B8: Bolsa Mexicana de Valores SA de CV | C8: Financiero
A9: CEMEXCPO | B9: Cemex SA CPO | C9: Materiales
A10: CHDRAUIB | B10: Grupo Comercial Chedraui SA de CV | C10: Consumo básico
A11: CUERVO | B11: Becle, S.A. De C.V. | C11: Consumo discrecional
A12: FEMSAUBD | B12: Fomento Economico Mexicano S.A.B. de C.V. | C12: Consumo discrecional
... A35: LACOMERUBC | B35: La Comer, S.A.B. de C.V. | C35: Consumo básico
