Workbook

Sheet Instrucciones
B2: SI YA SIGUES ESTA ESTRATEGIA:
B3: 1. Ve a la pestaña de "Último rebalanceo" e ingresa la posición y costo de tu portafolio actual en la sección de "rebalanceo de mi portafolio"
B4: 2. El formato te calculará automáticamente a los precios de compra que ingreses (vienen a cierre del último rebalanceo por default), los nuevos movimientos que tienes que hacer para continuar siguiendo la estrategia hasta este último rebalanceo.
B6: 3. La información se copiará automáticamente en la sección "seguimiento histórico de mi portafolio" dentro de la pestaña "Portafolio Actual".
B7: 4. En esa misma sección agrega el monto de inversión con el que empezaste a seguir la estrategia así como el saldo de los depósitos - retiros que has hecho al portafolio después de iniciado.
B9: 5. (OPCIONAL). Puedes ingresar la información de los dividendos cobrados totales por emisora dentro del portafolio actual si quieres calcular una aproximación del rendimiento total de cada una de acuerdo a su costo promedio ponderado actual, caso contrario, la columna de "Rendimiento Total" por emisora se convierte en rendimiento simple al momento pero en ningún caso afecta el cálculo del rendimiento total del portafolio.
B13: SI ES TU PRIMERA VEZ Y QUIERES SEGUIR ESTA ESTRATEGIA*:
B14: 1. Ve a la pestaña de "Portafolio Actual" y en la sección de "Empezar mi portafolio desde 0" ingresa la cantidad que quieres invertir en el portafolio de esta estrategia
B15: 2. El formato te calculará automáticamente a los precios de compra que ingreses (vienen a cierre del último rebalanceo por default), la cantidad de títulos que tienes que comprar por emisora para seguir esta estrategia
B17: 3. En la última columna te marcará las diferencias en peso de cada emisora vs el Portafolio Modelo así como un % de desviación total y calificación de indexación.
B19: *También lo puedes usar si ya la sigues pero hiciste un depósito/retiro de recursos de tu portafolio entre fechas de rebalanceo y quieres saber cómo debería de quedar tu portafolio con los cambios para continuar siguiendo la estrategia correctamente (sólo haz los movimientos por las diferencias que te marque entre el nuevo portafolio desde 0 y tu portafolio actual después del depósito/retiro de recursos)
B22: **En la última pestaña están las posiciones de los rebalanceos de los 12 meses anteriores a los 2 presentados en la pestaña "Último rebalanceo"
B24: DISCLAIMER: Los datos y la información proporcionados no deben interpretarse como asesoramiento de inversiones general ni personalizado ni recomendaciones para comprar o vender valores. Los productos u operaciones financieras a los que se refieren esos datos y esa información pueden no ser adecuados para tu perfil, tus objetivos o tus expectativas de inversión. Es tu responsabilidad determinar si cualquier producto u operación financiera es adecuada para tu caso, según tus intereses, objetivos de inversión, horizonte de inversión y propensión al riesgo.

Sheet Estrategia
B2: IPC GMVP
B3: Toma todas las emisoras componentes del índice S&P BMV/IPC, asignándoles la ponderación de acuerdo al método de Portafolio Global de Mínima Varianza (GMVP) de sus rendimientos diarios de los últimos 12 meses. Si alguna ponderación no alcanza a completar al menos 1 título, dicha emisora quedará en 0. Busca estar 100% invertido o lo más cercano a ello.
B6: Fecha de inicio: | C6: 1 de Noviembre 2021
B7: Universo: | C7: S&P BMV/IPC
B8: Rebalanceo: | C8: Semestral
B9: Monto mínimo sugerido: | C9: 25000
B10: Riesgo (volatilidad anual) | C10: Medio (10-15%)
B11: Acciones fraccionadas | C11: No
B12: % Mínimo por emisora | C12: 0
B13: % Máximo por emisora | C13: NA
B14: Efectivo | C14: 0-5%
B16: *Para el remanente de efectivo, se puede seleccionar entre un rendimiento igual al promedio mensual de la TIIE de fondeo a 1 día durante el período entre rebalanceos (base 30/360) o si se quiere omitir, seleccionar 0 en la casilla de TIIE en la pestaña último rebalanceo. No se incluyen los dividendos cobrados en el período para el cálculo.
B18: **Los rendimientos calculados, son brutos (no contemplan ninguna clase de comisión ni impuestos).
B20: 0 | C20: 44866 | D20: 45048 | E20: 45231 | F20: 45414 | G20: 45597 | H20: 45779 | I20: 45961 | J20: 46142
B21: PORTAFOLIO | C21: 0.079134165 | D21: 0.19940471 | E21: 0.11890853 | F21: 0.33206965 | G21: 0.31856385 | H21: 0.40400078 | I21: 0.51877376 | J21: 0.59037386
B22: IPC IRT | C22: -0.00057201166 | D22: 0.11545613 | E22: 0.020632278 | F22: 0.17776338 | G22: 0.084476143 | H22: 0.20420556 | I22: 0.33910389 | J22: 0.43319879

Sheet Portafolio Actual
B2: IPC Regresión a la media | D2: ='Último rebalanceo'!D2 -> 46142 | F2: TIIE 1 día promedio mensual | H2: ='Último rebalanceo'!H2 -> 0
B3: Valor inicial portafolio | D3: 25000
W4: #NA
B5: Ticker | C5: Compañía | D5: Títulos | E5: Costo Promedio Ponderado | F5: Costo total | G5: Último Cierre de mercado | H5: Valor mercado | I5: Dividendos Cobrados Totales | J5: Rendimiento Total | K5: % Portafolio Modelo | L5: GICS | S5: GICS únicos | T5: PM | U5: MP1 | V5: MP2 | X5: PM | Y5: MP1 | Z5: MP2
B6: {=IF(ROW(A1) <= COUNTA(_xlfn._xlws.FILTER('Último rebalanceo'!B$7:B$45, ('Último rebalanceo'!$K$7:$K$45>0)*ISNUMBER('Último rebalanceo'!$K$7:$K$45))), INDEX(_xlfn._xlws.FILTER('Último rebalanceo'!B$7:$B$45, ('Último rebalanceo'!$K$7:$K$45>0)*ISNUMBER('Último rebalanceo'!$K$7:$K$45)), ROW(A1)), "0")} -> GAPB | C6: =VLOOKUP(B6,GICS!$A:$B,2,0) -> Grupo Aeroportuario del Pacifico, S.A.B. de C.V. | D6: =VLOOKUP($B6,'Último rebalanceo'!$B7:$K45,10,0) -> 3 | E6: =VLOOKUP($B6,'Último rebalanceo'!$B7:$H45,4,0) -> 214.37476 | F6: =D6*E6 -> 643.12429 | G6: =VLOOKUP($B6,'Último rebalanceo'!$B7:$H45,7,0) -> 438.21 | H6: =D6*G6 -> 1314.63 | I6: 280.81 | J6: =(G6+I6/E6)/E6-1 -> 1.0502409 | K6: =H6/$H$43 -> 0.029138515 | L6: =VLOOKUP(B6,GICS!A:C,3,0) -> Industrial | S6: Consumo básico | T6: =SUMIF($L$6:$L$41,S6,$K$6:$K$41) -> 0.20690245 | U6: =SUMIF($L$6:$L$41,$S6,$K$54:$K$89) -> 0.14776031 | V6: =SUMIF($L$6:$L$41,$S6,$I$101:$I$136) -> 0.20163944 | W6: {=IFERROR(INDEX(S$6:S$17, SMALL(IF(T$6:T$17>0, ROW(S$6:S$17)-ROW(S$6)+1), ROW(A1))),$W$4)} -> Consumo básico | X6: =IF($W6="", "", INDEX(T$6:T$17, MATCH($W6, $S$6:$S$17, 0))) -> 0.20690245 | Y6: =IF($W6="", "", INDEX(U$6:U$17, MATCH($W6, $S$6:$S$17, 0))) -> 0.14776031 | Z6: =IF($W6="", "", INDEX(V$6:V$17, MATCH($W6, $S$6:$S$17, 0))) -> 0.20163944
B7: {=IF(ROW(A2) <= COUNTA(_xlfn._xlws.FILTER('Último rebalanceo'!B$7:B$45, ('Último rebalanceo'!$K$7:$K$45>0)*ISNUMBER('Último rebalanceo'!$K$7:$K$45))), INDEX(_xlfn._xlws.FILTER('Último rebalanceo'!B$7:$B$45, ('Último rebalanceo'!$K$7:$K$45>0)*ISNUMBER('Último rebalanceo'!$K$7:$K$45)), ROW(A2)), "0")} -> SIGMAFA | C7: =VLOOKUP(B7,GICS!$A:$B,2,0) -> Sigma Foods SAB de CV | D7: =VLOOKUP($B7,'Último rebalanceo'!$B8:$K46,10,0) -> 59 | E7: =VLOOKUP($B7,'Último rebalanceo'!$B8:$H46,4,0) -> 13.200222 | F7: =D7*E7 -> 778.81311 | G7: =VLOOKUP($B7,'Último rebalanceo'!$B8:$H46,7,0) -> 16.55 | H7: =D7*G7 -> 976.45 | I7: 51.547542 | J7: =(G7+I7/E7)/E7-1 -> 0.54959899 | K7: =H7/$H$43 -> 0.021642822 | L7: =VLOOKUP(B7,GICS!A:C,3,0) -> Consumo básico | S7: Industrial | T7: =SUMIF($L$6:$L$41,S7,$K$6:$K$41) -> 0.12449859 | U7: =SUMIF($L$6:$L$41,$S7,$K$54:$K$89) -> 0.10334495 | V7: =SUMIF($L$6:$L$41,$S7,$I$101:$I$136) -> 0.12329111 | W7: {=IFERROR(INDEX(S$6:S$17, SMALL(IF(T$6:T$17>0, ROW(S$6:S$17)-ROW(S$6)+1), ROW(A2))),$W$4)} -> Industrial | X7: =IF($W7="", "", INDEX(T$6:T$17, MATCH($W7, $S$6:$S$17, 0))) -> 0.12449859 | Y7: =IF($W7="", "", INDEX(U$6:U$17, MATCH($W7, $S$6:$S$17, 0))) -> 0.10334495 | Z7: =IF($W7="", "", INDEX(V$6:V$17, MATCH($W7, $S$6:$S$17, 0))) -> 0.12329111
B8: {=IF(ROW(A3) <= COUNTA(_xlfn._xlws.FILTER('Último rebalanceo'!B$7:B$45, ('Último rebalanceo'!$K$7:$K$45>0)*ISNUMBER('Último rebalanceo'!$K$7:$K$45))), INDEX(_xlfn._xlws.FILTER('Último rebalanceo'!B$7:$B$45, ('Último rebalanceo'!$K$7:$K$45>0)*ISNUMBER('Último rebalanceo'!$K$7:$K$45)), ROW(A3)), "0")} -> WALMEX | C8: =VLOOKUP(B8,GICS!$A:$B,2,0) -> Walmart de Mexico SAB de CV | D8: =VLOOKUP($B8,'Último rebalanceo'!$B9:$K47,10,0) -> 16 | E8: =VLOOKUP($B8,'Último rebalanceo'!$B9:$H47,4,0) -> 62.28672 | F8: =D8*E8 -> 996.58752 | G8: =VLOOKUP($B8,'Último rebalanceo'!$B9:$H47,7,0) -> 55.07 | H8: =D8*G8 -> 881.12 | I8: 93 | J8: =(G8+I8/E8)/E8-1 -> -0.091891572 | K8: =H8/$H$43 -> 0.019529851 | L8: =VLOOKUP(B8,GICS!A:C,3,0) -> Consumo básico | S8: Consumo discrecional | T8: =SUMIF($L$6:$L$41,S8,$K$6:$K$41) -> 0.1353609 | U8: =SUMIF($L$6:$L$41,$S8,$K$54:$K$89) -> 0.30931473 | V8: =SUMIF($L$6:$L$41,$S8,$I$101:$I$136) -> 0.13915 | W8: {=IFERROR(INDEX(S$6:S$17, SMALL(IF(T$6:T$17>0, ROW(S$6:S$17)-ROW(S$6)+1), ROW(A3))),$W$4)} -> Consumo discrecional | X8: =IF($W8="", "", INDEX(T$6:T$17, MATCH($W8, $S$6:$S$17, 0))) -> 0.1353609 | Y8: =IF($W8="", "", INDEX(U$6:U$17, MATCH($W8, $S$6:$S$17, 0))) -> 0.30931473 | Z8: =IF($W8="", "", INDEX(V$6:V$17, MATCH($W8, $S$6:$S$17, 0))) -> 0.13915
B9: {=IF(ROW(A4) <= COUNTA(_xlfn._xlws.FILTER('Último rebalanceo'!B$7:B$45, ('Último rebalanceo'!$K$7:$K$45>0)*ISNUMBER('Último rebalanceo'!$K$7:$K$45))), INDEX(_xlfn._xlws.FILTER('Último rebalanceo'!B$7:$B$45, ('Último rebalanceo'!$K$7:$K$45>0)*ISNUMBER('Último rebalanceo'!$K$7:$K$45)), ROW(A4)), "0")} -> ORBIA | C9: =VLOOKUP(B9,GICS!$A:$B,2,0) -> ORBIA ADVANCE CORPORATION SAB de CV | D9: =VLOOKUP($B9,'Último rebalanceo'!$B10:$K48,10,0) -> 75 | E9: =VLOOKUP($B9,'Último rebalanceo'!$B10:$H48,4,0) -> 25.341344 | F9: =D9*E9 -> 1900.6008 | G9: =VLOOKUP($B9,'Último rebalanceo'!$B10:$H48,7,0) -> 20.91 | H9: =D9*G9 -> 1568.25 | I9: 40.427966 | J9: =(G9+I9/E9)/E9-1 -> -0.1119123 | K9: =H9/$H$43 -> 0.034759953 | L9: =VLOOKUP(B9,GICS!A:C,3,0) -> Materiales | S9: Materiales | T9: =SUMIF($L$6:$L$41,S9,$K$6:$K$41) -> 0.19138643 | U9: =SUMIF($L$6:$L$41,$S9,$K$54:$K$89) -> 0.1687016 | V9: =SUMIF($L$6:$L$41,$S9,$I$101:$I$136) -> 0.20584722 | W9: {=IFERROR(INDEX(S$6:S$17, SMALL(IF(T$6:T$17>0, ROW(S$6:S$17)-ROW(S$6)+1), ROW(A4))),$W$4)} -> Materiales | X9: =IF($W9="", "", INDEX(T$6:T$17, MATCH($W9, $S$6:$S$17, 0))) -> 0.19138643 | Y9: =IF($W9="", "", INDEX(U$6:U$17, MATCH($W9, $S$6:$S$17, 0))) -> 0.1687016 | Z9: =IF($W9="", "", INDEX(V$6:V$17, MATCH($W9, $S$6:$S$17, 0))) -> 0.20584722
B10: {=IF(ROW(A5) <= COUNTA(_xlfn._xlws.FILTER('Último rebalanceo'!B$7:B$45, ('Último rebalanceo'!$K$7:$K$45>0)*ISNUMBER('Último rebalanceo'!$K$7:$K$45))), INDEX(_xlfn._xlws.FILTER('Último rebalanceo'!B$7:$B$45, ('Último rebalanceo'!$K$7:$K$45>0)*ISNUMBER('Último rebalanceo'!$K$7:$K$45)), ROW(A5)), "0")} -> OMAB | C10: =VLOOKUP(B10,GICS!$A:$B,2,0) -> Grupo Aeroportuario del Centro Norte, S.A.B. de C.V. | D10: =VLOOKUP($B10,'Último rebalanceo'!$B11:$K49,10,0) -> 8 | E10: =VLOOKUP($B10,'Último rebalanceo'!$B11:$H49,4,0) -> 106.47656 | F10: =D10*E10 -> 851.81249 | G10: =VLOOKUP($B10,'Último rebalanceo'!$B11:$H49,7,0) -> 231.83 | H10: =D10*G10 -> 1854.64 | I10: 476.58158 | J10: =(G10+I10/E10)/E10-1 -> 1.2193235 | K10: =H10/$H$43 -> 0.041107731 | L10: =VLOOKUP(B10,GICS!A:C,3,0) -> Industrial | S10: Financiero | T10: =SUMIF($L$6:$L$41,S10,$K$6:$K$41) -> 0.20444327 | U10: =SUMIF($L$6:$L$41,$S10,$K$54:$K$89) -> 0.13678214 | V10: =SUMIF($L$6:$L$41,$S10,$I$101:$I$136) -> 0.20611111 | W10: {=IFERROR(INDEX(S$6:S$17, SMALL(IF(T$6:T$17>0, ROW(S$6:S$17)-ROW(S$6)+1), ROW(A5))),$W$4)} -> Financiero | X10: =IF($W10="", "", INDEX(T$6:T$17, MATCH($W10, $S$6:$S$17, 0))) -> 0.20444327 | Y10: =IF($W10="", "", INDEX(U$6:U$17, MATCH($W10, $S$6:$S$17, 0))) -> 0.13678214 | Z10: =IF($W10="", "", INDEX(V$6:V$17, MATCH($W10, $S$6:$S$17, 0))) -> 0.20611111
B11: {=IF(ROW(A6) <= COUNTA(_xlfn._xlws.FILTER('Último rebalanceo'!B$7:B$45, ('Último rebalanceo'!$K$7:$K$45>0)*ISNUMBER('Último rebalanceo'!$K$7:$K$45))), INDEX(_xlfn._xlws.FILTER('Último rebalanceo'!B$7:$B$45, ('Último rebalanceo'!$K$7:$K$45>0)*ISNUMBER('Último rebalanceo'!$K$7:$K$45)), ROW(A6)), "0")} -> TLEVISACPO | C11: =VLOOKUP(B11,GICS!$A:$B,2,0) -> Grupo Televisa SAB CPO | D11: =VLOOKUP($B11,'Último rebalanceo'!$B12:$K50,10,0) -> 105 | E11: =VLOOKUP($B11,'Último rebalanceo'!$B12:$H50,4,0) -> 15.705863 | F11: =D11*E11 -> 1649.1157 | G11: =VLOOKUP($B11,'Último rebalanceo'!$B12:$H50,7,0) -> 9.96 | H11: =D11*G11 -> 1045.8 | I11: 170.45 | J11: =(G11+I11/E11)/E11-1 -> 0.32515062 | K11: =H11/$H$43 -> 0.023179951 | L11: =VLOOKUP(B11,GICS!A:C,3,0) -> Servicios de comunicación | S11: Cuidado de la salud | T11: =SUMIF($L$6:$L$41,S11,$K$6:$K$41) -> 0.035066492 | U11: =SUMIF($L$6:$L$41,$S11,$K$54:$K$89) -> 0.0039417518 | V11: =SUMIF($L$6:$L$41,$S11,$I$101:$I$136) -> 0.034791111 | W11: {=IFERROR(INDEX(S$6:S$17, SMALL(IF(T$6:T$17>0, ROW(S$6:S$17)-ROW(S$6)+1), ROW(A6))),$W$4)} -> Cuidado de la salud | X11: =IF($W11="", "", INDEX(T$6:T$17, MATCH($W11, $S$6:$S$17, 0))) -> 0.035066492 | Y11: =IF($W11="", "", INDEX(U$6:U$17, MATCH($W11, $S$6:$S$17, 0))) -> 0.0039417518 | Z11: =IF($W11="", "", INDEX(V$6:V$17, MATCH($W11, $S$6:$S$17, 0))) -> 0.034791111
B12: {=IF(ROW(A7) <= COUNTA(_xlfn._xlws.FILTER('Último rebalanceo'!B$7:B$45, ('Último rebalanceo'!$K$7:$K$45>0)*ISNUMBER('Último rebalanceo'!$K$7:$K$45))), INDEX(_xlfn._xlws.FILTER('Último rebalanceo'!B$7:$B$45, ('Último rebalanceo'!$K$7:$K$45>0)*ISNUMBER('Último rebalanceo'!$K$7:$K$45)), ROW(A7)), "0")} -> CEMEXCPO | C12: =VLOOKUP(B12,GICS!$A:$B,2,0) -> Cemex SA CPO | D12: =VLOOKUP($B12,'Último rebalanceo'!$B13:$K51,10,0) -> 73 | E12: =VLOOKUP($B12,'Último rebalanceo'!$B13:$H51,4,0) -> 10.886807 | F12: =D12*E12 -> 794.73693 | G12: =VLOOKUP($B12,'Último rebalanceo'!$B13:$H51,7,0) -> 21.45 | H12: =D12*G12 -> 1565.85 | I12: 11.695677 | J12: =(G12+I12/E12)/E12-1 -> 1.0689535 | K12: =H12/$H$43 -> 0.034706757 | L12: =VLOOKUP(B12,GICS!A:C,3,0) -> Materiales | S12: TI | T12: =SUMIF($L$6:$L$41,S12,$K$6:$K$41) -> 0 | U12: =SUMIF($L$6:$L$41,$S12,$K$54:$K$89) -> 0 | V12: =SUMIF($L$6:$L$41,$S12,$I$101:$I$136) -> 0 | W12: {=IFERROR(INDEX(S$6:S$17, SMALL(IF(T$6:T$17>0, ROW(S$6:S$17)-ROW(S$6)+1), ROW(A7))),$W$4)} -> Inmobiliario | X12: =IF($W12="", "", INDEX(T$6:T$17, MATCH($W12, $S$6:$S$17, 0))) -> 0.022051319 | Y12: =IF($W12="", "", INDEX(U$6:U$17, MATCH($W12, $S$6:$S$17, 0))) -> 0.034321059 | Z12: =IF($W12="", "", INDEX(V$6:V$17, MATCH($W12, $S$6:$S$17, 0))) -> 0.020726667
B13: {=IF(ROW(A8) <= COUNTA(_xlfn._xlws.FILTER('Último rebalanceo'!B$7:B$45, ('Último rebalanceo'!$K$7:$K$45>0)*ISNUMBER('Último rebalanceo'!$K$7:$K$45))), INDEX(_xlfn._xlws.FILTER('Último rebalanceo'!B$7:$B$45, ('Último rebalanceo'!$K$7:$K$45>0)*ISNUMBER('Último rebalanceo'!$K$7:$K$45)), ROW(A8)), "0")} -> PINFRA | C13: =VLOOKUP(B13,GICS!$A:$B,2,0) -> Promotora y Operadora de Infraestructura SAB de CV | D13: =VLOOKUP($B13,'Último rebalanceo'!$B14:$K52,10,0) -> 5 | E13: =VLOOKUP($B13,'Último rebalanceo'!$B14:$H52,4,0) -> 142.14873 | F13: =D13*E13 -> 710.74364 | G13: =VLOOKUP($B13,'Último rebalanceo'!$B14:$H52,7,0) -> 276.6 | H13: =D13*G13 -> 1383 | I13: 144.40904 | J13: =(G13+I13/E13)/E13-1 -> 0.95299604 | K13: =H13/$H$43 -> 0.030653923 | L13: =VLOOKUP(B13,GICS!A:C,3,0) -> Industrial | S13: Inmobiliario | T13: =SUMIF($L$6:$L$41,S13,$K$6:$K$41) -> 0.022051319 | U13: =SUMIF($L$6:$L$41,$S13,$K$54:$K$89) -> 0.034321059 | V13: =SUMIF($L$6:$L$41,$S13,$I$101:$I$136) -> 0.020726667 | W13: {=IFERROR(INDEX(S$6:S$17, SMALL(IF(T$6:T$17>0, ROW(S$6:S$17)-ROW(S$6)+1), ROW(A8))),$W$4)} -> Servicios de comunicación | X13: =IF($W13="", "", INDEX(T$6:T$17, MATCH($W13, $S$6:$S$17, 0))) -> 0.070776206 | Y13: =IF($W13="", "", INDEX(U$6:U$17, MATCH($W13, $S$6:$S$17, 0))) -> 0.084348778 | Z13: =IF($W13="", "", INDEX(V$6:V$17, MATCH($W13, $S$6:$S$17, 0))) -> 0.070701667
B14: {=IF(ROW(A9) <= COUNTA(_xlfn._xlws.FILTER('Último rebalanceo'!B$7:B$45, ('Último rebalanceo'!$K$7:$K$45>0)*ISNUMBER('Último rebalanceo'!$K$7:$K$45))), INDEX(_xlfn._xlws.FILTER('Último rebalanceo'!B$7:$B$45, ('Último rebalanceo'!$K$7:$K$45>0)*ISNUMBER('Último rebalanceo'!$K$7:$K$45)), ROW(A9)), "0")} -> GMEXICOB | C14: =VLOOKUP(B14,GICS!$A:$B,2,0) -> Grupo Mexico SAB de CV B | D14: =VLOOKUP($B14,'Último rebalanceo'!$B15:$K53,10,0) -> 12 | E14: =VLOOKUP($B14,'Último rebalanceo'!$B15:$H53,4,0) -> 75.837009 | F14: =D14*E14 -> 910.04411 | G14: =VLOOKUP($B14,'Último rebalanceo'!$B15:$H53,7,0) -> 191.2 | H14: =D14*G14 -> 2294.4 | I14: 256.6 | J14: =(G14+I14/E14)/E14-1 -> 1.5658128 | K14: =H14/$H$43 -> 0.050854924 | L14: =VLOOKUP(B14,GICS!A:C,3,0) -> Materiales | S14: Servicios básicos | T14: =SUMIF($L$6:$L$41,S14,$K$6:$K$41) -> 0 | U14: =SUMIF($L$6:$L$41,$S14,$K$54:$K$89) -> 0 | V14: =SUMIF($L$6:$L$41,$S14,$I$101:$I$136) -> 0 | W14: {=IFERROR(INDEX(S$6:S$17, SMALL(IF(T$6:T$17>0, ROW(S$6:S$17)-ROW(S$6)+1), ROW(A9))),$W$4)} -> Efectivo | X14: =IF($W14="", "", INDEX(T$6:T$17, MATCH($W14, $S$6:$S$17, 0))) -> 0.009514346 | Y14: =IF($W14="", "", INDEX(U$6:U$17, MATCH($W14, $S$6:$S$17, 0))) -> 0.011484677 | Z14: =IF($W14="", "", INDEX(V$6:V$17, MATCH($W14, $S$6:$S$17, 0))) -> -0.0022583333
B15: {=IF(ROW(A10) <= COUNTA(_xlfn._xlws.FILTER('Último rebalanceo'!B$7:B$45, ('Último rebalanceo'!$K$7:$K$45>0)*ISNUMBER('Último rebalanceo'!$K$7:$K$45))), INDEX(_xlfn._xlws.FILTER('Último rebalanceo'!B$7:$B$45, ('Último rebalanceo'!$K$7:$K$45>0)*ISNUMBER('Último rebalanceo'!$K$7:$K$45)), ROW(A10)), "0")} -> AC | C15: =VLOOKUP(B15,GICS!$A:$B,2,0) -> Arca Continental, SAB de CV | D15: =VLOOKUP($B15,'Último rebalanceo'!$B16:$K54,10,0) -> 5 | E15: =VLOOKUP($B15,'Último rebalanceo'!$B16:$H54,4,0) -> 145.40785 | F15: =D15*E15 -> 727.03926 | G15: =VLOOKUP($B15,'Último rebalanceo'!$B16:$H54,7,0) -> 209.87 | H15: =D15*G15 -> 1049.35 | I15: 116.84 | J15: =(G15+I15/E15)/E15-1 -> 0.44884565 | K15: =H15/$H$43 -> 0.023258636 | L15: =VLOOKUP(B15,GICS!A:C,3,0) -> Consumo básico | S15: Energía | T15: =SUMIF($L$6:$L$41,S15,$K$6:$K$41) -> 0 | U15: =SUMIF($L$6:$L$41,$S15,$K$54:$K$89) -> 0 | V15: =SUMIF($L$6:$L$41,$S15,$I$101:$I$136) -> 0 | W15: {=IFERROR(INDEX(S$6:S$17, SMALL(IF(T$6:T$17>0, ROW(S$6:S$17)-ROW(S$6)+1), ROW(A10))),$W$4)} -> #NA | X15: =IF($W15="", "", INDEX(T$6:T$17, MATCH($W15, $S$6:$S$17, 0))) -> #N/A | Y15: =IF($W15="", "", INDEX(U$6:U$17, MATCH($W15, $S$6:$S$17, 0))) -> #N/A | Z15: =IF($W15="", "", INDEX(V$6:V$17, MATCH($W15, $S$6:$S$17, 0))) -> #N/A
B16: {=IF(ROW(A11) <= COUNTA(_xlfn._xlws.FILTER('Último rebalanceo'!B$7:B$45, ('Último rebalanceo'!$K$7:$K$45>0)*ISNUMBER('Último rebalanceo'!$K$7:$K$45))), INDEX(_xlfn._xlws.FILTER('Último rebalanceo'!B$7:$B$45, ('Último rebalanceo'!$K$7:$K$45>0)*ISNUMBER('Último rebalanceo'!$K$7:$K$45)), ROW(A11)), "0")} -> FEMSAUBD | C16: =VLOOKUP(B16,GICS!$A:$B,2,0) -> Fomento Economico Mexicano S.A.B. de C.V. | D16: =VLOOKUP($B16,'Último rebalanceo'!$B17:$K55,10,0) -> 4 | E16: =VLOOKUP($B16,'Último rebalanceo'!$B17:$H55,4,0) -> 173.36246 | F16: =D16*E16 -> 693.44985 | G16: =VLOOKUP($B16,'Último rebalanceo'!$B17:$H55,7,0) -> 206.45 | H16: =D16*G16 -> 825.8 | I16: 120.70435 | J16: =(G16+I16/E16)/E16-1 -> 0.19487374 | K16: =H16/$H$43 -> 0.018303694 | L16: =VLOOKUP(B16,GICS!A:C,3,0) -> Consumo discrecional | S16: Servicios de comunicación | T16: =SUMIF($L$6:$L$41,S16,$K$6:$K$41) -> 0.070776206 | U16: =SUMIF($L$6:$L$41,$S16,$K$54:$K$89) -> 0.084348778 | V16: =SUMIF($L$6:$L$41,$S16,$I$101:$I$136) -> 0.070701667 | W16: {=IFERROR(INDEX(S$6:S$17, SMALL(IF(T$6:T$17>0, ROW(S$6:S$17)-ROW(S$6)+1), ROW(A11))),$W$4)} -> #NA | X16: =IF($W16="", "", INDEX(T$6:T$17, MATCH($W16, $S$6:$S$17, 0))) -> #N/A | Y16: =IF($W16="", "", INDEX(U$6:U$17, MATCH($W16, $S$6:$S$17, 0))) -> #N/A | Z16: =IF($W16="", "", INDEX(V$6:V$17, MATCH($W16, $S$6:$S$17, 0))) -> #N/A
B17: {=IF(ROW(A12) <= COUNTA(_xlfn._xlws.FILTER('Último rebalanceo'!B$7:B$45, ('Último rebalanceo'!$K$7:$K$45>0)*ISNUMBER('Último rebalanceo'!$K$7:$K$45))), INDEX(_xlfn._xlws.FILTER('Último rebalanceo'!B$7:$B$45, ('Último rebalanceo'!$K$7:$K$45>0)*ISNUMBER('Último rebalanceo'!$K$7:$K$45)), ROW(A12)), "0")} -> AMXB | C17: =VLOOKUP(B17,GICS!$A:$B,2,0) -> America Movil SAB de CV B | D17: =VLOOKUP($B17,'Último rebalanceo'!$B18:$K56,10,0) -> 53 | E17: =VLOOKUP($B17,'Último rebalanceo'!$B18:$H56,4,0) -> 17.891318 | F17: =D17*E17 -> 948.23986 | G17: =VLOOKUP($B17,'Último rebalanceo'!$B18:$H56,7,0) -> 23.21 | H17: =D17*G17 -> 1230.13 | I17: 50.92 | J17: =(G17+I17/E17)/E17-1 -> 0.4563529 | K17: =H17/$H$43 -> 0.027265589 | L17: =VLOOKUP(B17,GICS!A:C,3,0) -> Servicios de comunicación | S17: Efectivo | T17: =SUMIF($L$6:$L$41,S17,$K$6:$K$41) -> 0.009514346 | U17: =SUMIF($L$6:$L$41,$S17,$K$54:$K$89) -> 0.011484677 | V17: =SUMIF($L$6:$L$41,$S17,$I$101:$I$136) -> -0.0022583333 | W17: {=IFERROR(INDEX(S$6:S$17, SMALL(IF(T$6:T$17>0, ROW(S$6:S$17)-ROW(S$6)+1), ROW(A12))),$W$4)} -> #NA | X17: =IF($W17="", "", INDEX(T$6:T$17, MATCH($W17, $S$6:$S$17, 0))) -> #N/A | Y17: =IF($W17="", "", INDEX(U$6:U$17, MATCH($W17, $S$6:$S$17, 0))) -> #N/A | Z17: =IF($W17="", "", INDEX(V$6:V$17, MATCH($W17, $S$6:$S$17, 0))) -> #N/A
B18: {=IF(ROW(A13) <= COUNTA(_xlfn._xlws.FILTER('Último rebalanceo'!B$7:B$45, ('Último rebalanceo'!$K$7:$K$45>0)*ISNUMBER('Último rebalanceo'!$K$7:$K$45))), INDEX(_xlfn._xlws.FILTER('Último rebalanceo'!B$7:$B$45, ('Último rebalanceo'!$K$7:$K$45>0)*ISNUMBER('Último rebalanceo'!$K$7:$K$45)), ROW(A13)), "0")} -> KOFUBL | C18: =VLOOKUP(B18,GICS!$A:$B,2,0) -> Coca-Cola Femsa SAB de CV UBL | D18: =VLOOKUP($B18,'Último rebalanceo'!$B19:$K57,10,0) -> 5 | E18: =VLOOKUP($B18,'Último rebalanceo'!$B19:$H57,4,0) -> 124.75869 | F18: =D18*E18 -> 623.79347 | G18: =VLOOKUP($B18,'Último rebalanceo'!$B19:$H57,7,0) -> 176.96 | H18: =D18*G18 -> 884.8 | I18: 127.69 | J18: =(G18+I18/E18)/E18-1 -> 0.42662198 | K18: =H18/$H$43 -> 0.019611418 | L18: =VLOOKUP(B18,GICS!A:C,3,0) -> Consumo básico
B19: {=IF(ROW(A14) <= COUNTA(_xlfn._xlws.FILTER('Último rebalanceo'!B$7:B$45, ('Último rebalanceo'!$K$7:$K$45>0)*ISNUMBER('Último rebalanceo'!$K$7:$K$45))), INDEX(_xlfn._xlws.FILTER('Último rebalanceo'!B$7:$B$45, ('Último rebalanceo'!$K$7:$K$45>0)*ISNUMBER('Último rebalanceo'!$K$7:$K$45)), ROW(A14)), "0")} -> ALSEA | C19: =VLOOKUP(B19,GICS!$A:$B,2,0) -> Alsea SA | D19: =VLOOKUP($B19,'Último rebalanceo'!$B20:$K58,10,0) -> 20 | E19: =VLOOKUP($B19,'Último rebalanceo'!$B20:$H58,4,0) -> 44.863606 | F19: =D19*E19 -> 897.27211 | G19: =VLOOKUP($B19,'Último rebalanceo'!$B20:$H58,7,0) -> 51.42 | H19: =D19*G19 -> 1028.4 | I19: 24.689798 | J19: =(G19+I19/E19)/E19-1 -> 0.15840734 | K19: =H19/$H$43 -> 0.022794284 | L19: =VLOOKUP(B19,GICS!A:C,3,0) -> Consumo discrecional
B20: {=IF(ROW(A15) <= COUNTA(_xlfn._xlws.FILTER('Último rebalanceo'!B$7:B$45, ('Último rebalanceo'!$K$7:$K$45>0)*ISNUMBER('Último rebalanceo'!$K$7:$K$45))), INDEX(_xlfn._xlws.FILTER('Último rebalanceo'!B$7:$B$45, ('Último rebalanceo'!$K$7:$K$45>0)*ISNUMBER('Último rebalanceo'!$K$7:$K$45)), ROW(A15)), "0")} -> GRUMAB | C20: =VLOOKUP(B20,GICS!$A:$B,2,0) -> Gruma SAB B | D20: =VLOOKUP($B20,'Último rebalanceo'!$B21:$K59,10,0) -> 3 | E20: =VLOOKUP($B20,'Último rebalanceo'!$B21:$H59,4,0) -> 225.28848 | F20: =D20*E20 -> 675.86545 | G20: =VLOOKUP($B20,'Último rebalanceo'!$B21:$H59,7,0) -> 303.16 | H20: =D20*G20 -> 909.48 | I20: 45.8 | J20: =(G20+I20/E20)/E20-1 -> 0.34655483 | K20: =H20/$H$43 -> 0.020158445 | L20: =VLOOKUP(B20,GICS!A:C,3,0) -> Consumo básico
B21: {=IF(ROW(A16) <= COUNTA(_xlfn._xlws.FILTER('Último rebalanceo'!B$7:B$45, ('Último rebalanceo'!$K$7:$K$45>0)*ISNUMBER('Último rebalanceo'!$K$7:$K$45))), INDEX(_xlfn._xlws.FILTER('Último rebalanceo'!B$7:$B$45, ('Último rebalanceo'!$K$7:$K$45>0)*ISNUMBER('Último rebalanceo'!$K$7:$K$45)), ROW(A16)), "0")} -> ASURB | C21: =VLOOKUP(B21,GICS!$A:$B,2,0) -> Grupo Aeroportuario del Sureste SAB de CV B | D21: =VLOOKUP($B21,'Último rebalanceo'!$B22:$K60,10,0) -> 2 | E21: =VLOOKUP($B21,'Último rebalanceo'!$B22:$H60,4,0) -> 366.07857 | F21: =D21*E21 -> 732.15715 | G21: =VLOOKUP($B21,'Último rebalanceo'!$B22:$H60,7,0) -> 532.34 | H21: =D21*G21 -> 1064.68 | I21: 281.92613 | J21: =(G21+I21/E21)/E21-1 -> 0.45627241 | K21: =H21/$H$43 -> 0.023598423 | L21: =VLOOKUP(B21,GICS!A:C,3,0) -> Industrial
B22: {=IF(ROW(A17) <= COUNTA(_xlfn._xlws.FILTER('Último rebalanceo'!B$7:B$45, ('Último rebalanceo'!$K$7:$K$45>0)*ISNUMBER('Último rebalanceo'!$K$7:$K$45))), INDEX(_xlfn._xlws.FILTER('Último rebalanceo'!B$7:$B$45, ('Último rebalanceo'!$K$7:$K$45>0)*ISNUMBER('Último rebalanceo'!$K$7:$K$45)), ROW(A17)), "0")} -> BIMBOA | C22: =VLOOKUP(B22,GICS!$A:$B,2,0) -> Grupo Bimbo S.A.B. | D22: =VLOOKUP($B22,'Último rebalanceo'!$B23:$K61,10,0) -> 23 | E22: =VLOOKUP($B22,'Último rebalanceo'!$B23:$H61,4,0) -> 62.031316 | F22: =D22*E22 -> 1426.7203 | G22: =VLOOKUP($B22,'Último rebalanceo'!$B23:$H61,7,0) -> 59.48 | H22: =D22*G22 -> 1368.04 | I22: 54.5 | J22: =(G22+I22/E22)/E22-1 -> -0.026965853 | K22: =H22/$H$43 -> 0.030322337 | L22: =VLOOKUP(B22,GICS!A:C,3,0) -> Consumo básico
B23: {=IF(ROW(A18) <= COUNTA(_xlfn._xlws.FILTER('Último rebalanceo'!B$7:B$45, ('Último rebalanceo'!$K$7:$K$45>0)*ISNUMBER('Último rebalanceo'!$K$7:$K$45))), INDEX(_xlfn._xlws.FILTER('Último rebalanceo'!B$7:$B$45, ('Último rebalanceo'!$K$7:$K$45>0)*ISNUMBER('Último rebalanceo'!$K$7:$K$45)), ROW(A18)), "0")} -> PE&OLES | C23: =VLOOKUP(B23,GICS!$A:$B,2,0) -> Industrias Penoles | D23: =VLOOKUP($B23,'Último rebalanceo'!$B24:$K62,10,0) -> 2 | E23: =VLOOKUP($B23,'Último rebalanceo'!$B24:$H62,4,0) -> 261.60173 | F23: =D23*E23 -> 523.20346 | G23: =VLOOKUP($B23,'Último rebalanceo'!$B24:$H62,7,0) -> 880.7 | H23: =D23*G23 -> 1761.4 | I23: 0.3774 | J23: =(G23+I23/E23)/E23-1 -> 2.3665735 | K23: =H23/$H$43 -> 0.039041084 | L23: =VLOOKUP(B23,GICS!A:C,3,0) -> Materiales
B24: {=IF(ROW(A19) <= COUNTA(_xlfn._xlws.FILTER('Último rebalanceo'!B$7:B$45, ('Último rebalanceo'!$K$7:$K$45>0)*ISNUMBER('Último rebalanceo'!$K$7:$K$45))), INDEX(_xlfn._xlws.FILTER('Último rebalanceo'!B$7:$B$45, ('Último rebalanceo'!$K$7:$K$45>0)*ISNUMBER('Último rebalanceo'!$K$7:$K$45)), ROW(A19)), "0")} -> BBAJIOO | C24: =VLOOKUP(B24,GICS!$A:$B,2,0) -> Banco del Bajio, S.A. | D24: =VLOOKUP($B24,'Último rebalanceo'!$B25:$K63,10,0) -> 26 | E24: =VLOOKUP($B24,'Último rebalanceo'!$B25:$H63,4,0) -> 39.455266 | F24: =D24*E24 -> 1025.8369 | G24: =VLOOKUP($B24,'Último rebalanceo'!$B25:$H63,7,0) -> 54.68 | H24: =D24*G24 -> 1421.68 | I24: 546.32012 | J24: =(G24+I24/E24)/E24-1 -> 0.73681686 | K24: =H24/$H$43 -> 0.031511257 | L24: =VLOOKUP(B24,GICS!A:C,3,0) -> Financiero
B25: {=IF(ROW(A20) <= COUNTA(_xlfn._xlws.FILTER('Último rebalanceo'!B$7:B$45, ('Último rebalanceo'!$K$7:$K$45>0)*ISNUMBER('Último rebalanceo'!$K$7:$K$45))), INDEX(_xlfn._xlws.FILTER('Último rebalanceo'!B$7:$B$45, ('Último rebalanceo'!$K$7:$K$45>0)*ISNUMBER('Último rebalanceo'!$K$7:$K$45)), ROW(A20)), "0")} -> BOLSAA | C25: =VLOOKUP(B25,GICS!$A:$B,2,0) -> Bolsa Mexicana de Valores SA de CV | D25: =VLOOKUP($B25,'Último rebalanceo'!$B26:$K64,10,0) -> 31 | E25: =VLOOKUP($B25,'Último rebalanceo'!$B26:$H64,4,0) -> 32.440135 | F25: =D25*E25 -> 1005.6442 | G25: =VLOOKUP($B25,'Último rebalanceo'!$B26:$H64,7,0) -> 39.35 | H25: =D25*G25 -> 1219.85 | I25: 178.48 | J25: =(G25+I25/E25)/E25-1 -> 0.38260297 | K25: =H25/$H$43 -> 0.027037735 | L25: =VLOOKUP(B25,GICS!A:C,3,0) -> Financiero
B26: {=IF(ROW(A21) <= COUNTA(_xlfn._xlws.FILTER('Último rebalanceo'!B$7:B$45, ('Último rebalanceo'!$K$7:$K$45>0)*ISNUMBER('Último rebalanceo'!$K$7:$K$45))), INDEX(_xlfn._xlws.FILTER('Último rebalanceo'!B$7:$B$45, ('Último rebalanceo'!$K$7:$K$45>0)*ISNUMBER('Último rebalanceo'!$K$7:$K$45)), ROW(A21)), "0")} -> VESTA | C26: =VLOOKUP(B26,GICS!$A:$B,2,0) -> Corporacion Inmobiliaria Vesta, S.A.B. DE C.V. | D26: =VLOOKUP($B26,'Último rebalanceo'!$B27:$K65,10,0) -> 16 | E26: =VLOOKUP($B26,'Último rebalanceo'!$B27:$H65,4,0) -> 45.58976 | F26: =D26*E26 -> 729.43616 | G26: =VLOOKUP($B26,'Último rebalanceo'!$B27:$H65,7,0) -> 62.18 | H26: =D26*G26 -> 994.88 | I26: 27.120123 | J26: =(G26+I26/E26)/E26-1 -> 0.37695117 | K26: =H26/$H$43 -> 0.022051319 | L26: =VLOOKUP(B26,GICS!A:C,3,0) -> Inmobiliario
B27: {=IF(ROW(A22) <= COUNTA(_xlfn._xlws.FILTER('Último rebalanceo'!B$7:B$45, ('Último rebalanceo'!$K$7:$K$45>0)*ISNUMBER('Último rebalanceo'!$K$7:$K$45))), INDEX(_xlfn._xlws.FILTER('Último rebalanceo'!B$7:$B$45, ('Último rebalanceo'!$K$7:$K$45>0)*ISNUMBER('Último rebalanceo'!$K$7:$K$45)), ROW(A22)), "0")} -> LIVEPOLC-1 | C27: =VLOOKUP(B27,GICS!$A:$B,2,0) -> El Puerto de Liverpool SAB de CV | D27: =VLOOKUP($B27,'Último rebalanceo'!$B28:$K66,10,0) -> 13 | E27: =VLOOKUP($B27,'Último rebalanceo'!$B28:$H66,4,0) -> 110.69043 | F27: =D27*E27 -> 1438.9755 | G27: =VLOOKUP($B27,'Último rebalanceo'!$B28:$H66,7,0) -> 103.44 | H27: =D27*G27 -> 1344.72 | I27: 71.5 | J27: =(G27+I27/E27)/E27-1 -> -0.059666226 | K27: =H27/$H$43 -> 0.029805454 | L27: =VLOOKUP(B27,GICS!A:C,3,0) -> Consumo discrecional
B28: {=IF(ROW(A23) <= COUNTA(_xlfn._xlws.FILTER('Último rebalanceo'!B$7:B$45, ('Último rebalanceo'!$K$7:$K$45>0)*ISNUMBER('Último rebalanceo'!$K$7:$K$45))), INDEX(_xlfn._xlws.FILTER('Último rebalanceo'!B$7:$B$45, ('Último rebalanceo'!$K$7:$K$45>0)*ISNUMBER('Último rebalanceo'!$K$7:$K$45)), ROW(A23)), "0")} -> LABB | C28: =VLOOKUP(B28,GICS!$A:$B,2,0) -> Genomma Lab Internacional SA de CV | D28: =VLOOKUP($B28,'Último rebalanceo'!$B29:$K67,10,0) -> 96 | E28: =VLOOKUP($B28,'Último rebalanceo'!$B29:$H67,4,0) -> 17.420249 | F28: =D28*E28 -> 1672.3439 | G28: =VLOOKUP($B28,'Último rebalanceo'!$B29:$H67,7,0) -> 16.48 | H28: =D28*G28 -> 1582.08 | I28: 195.4589 | J28: =(G28+I28/E28)/E28-1 -> 0.59011583 | K28: =H28/$H$43 -> 0.035066492 | L28: =VLOOKUP(B28,GICS!A:C,3,0) -> Cuidado de la Salud
B29: {=IF(ROW(A24) <= COUNTA(_xlfn._xlws.FILTER('Último rebalanceo'!B$7:B$45, ('Último rebalanceo'!$K$7:$K$45>0)*ISNUMBER('Último rebalanceo'!$K$7:$K$45))), INDEX(_xlfn._xlws.FILTER('Último rebalanceo'!B$7:$B$45, ('Último rebalanceo'!$K$7:$K$45>0)*ISNUMBER('Último rebalanceo'!$K$7:$K$45)), ROW(A24)), "0")} -> GCARSOA1 | C29: =VLOOKUP(B29,GICS!$A:$B,2,0) -> Grupo Carso SAB de CV | D29: =VLOOKUP($B29,'Último rebalanceo'!$B30:$K68,10,0) -> 10 | E29: =VLOOKUP($B29,'Último rebalanceo'!$B30:$H68,4,0) -> 90.062917 | F29: =D29*E29 -> 900.62917 | G29: =VLOOKUP($B29,'Último rebalanceo'!$B30:$H68,7,0) -> 132.81 | H29: =D29*G29 -> 1328.1 | I29: 66.55 | J29: =(G29+I29/E29)/E29-1 -> 0.48284036 | K29: =H29/$H$43 -> 0.029437075 | L29: =VLOOKUP(B29,GICS!A:C,3,0) -> Consumo discrecional
... B40: {=IF(ROW(A35) <= COUNTA(_xlfn._xlws.FILTER('Último rebalanceo'!B$7:B$45, ('Último rebalanceo'!$K$7:$K$45>0)*ISNUMBER('Último rebalanceo'!$K$7:$K$45))), INDEX(_xlfn._xlws.FILTER('Último rebalanceo'!B$7:$B$45, ('Último rebalanceo'!$K$7:$K$45>0)*ISNUMBER('Último rebalanceo'!$K$7:$K$45)), ROW(A35)), "0")} -> VOLARA | C40: =VLOOKUP(B40,GICS!$A:$B,2,0) -> Controladora Vuela Compania de Aviacion SAB de CV | D40: =VLOOKUP($B40,'Último rebalanceo'!$B41:$K79,10,0) -> 144 | E40: =VLOOKUP($B40,'Último rebalanceo'!$B41:$H79,4,0) -> 0 | F40: =D40*E40 -> 0 | G40: =VLOOKUP($B40,'Último rebalanceo'!$B41:$H79,7,0) -> 13.06 | H40: =D40*G40 -> 1880.64 | I40: 0 | J40: =(G40+I40/E40)/E40-1 -> #DIV/0! | K40: =H40/$H$43 -> 0.041684016 | L40: =VLOOKUP(B40,GICS!A:C,3,0) -> Consumo básico
B41: EFECTIVO | D41: ='Último rebalanceo'!K46 -> 429.2547 | E41: ='Último rebalanceo'!L46 -> 0 | F41: =D41*E41 -> 0 | H41: =D41 -> 429.2547 | I41: 0.21473421 | K41: =H41/$H$43 -> 0.009514346 | L41: =B41 -> EFECTIVO
B43: TOTAL | H43: =SUM(H6:H41) -> 45116.575 | I43: Rend. Simple | J43: =H43/D3-1 -> 0.80466299 | K43: =SUM(K6:K41) -> 1
I44: Rend. Logarítmico | J44: =LN(H43/D3) -> 0.59037386
B46: SEGUIMIENTO HISTÓRICO DE MI PORTAFOLIO
B47: Valor inicial portafolio | D47: 25000
B48: Aportaciones netas históricas (depósitos - retiros) | D48: 0
B49: PUEDES AGREGAR LOS DIVIDENDOS COBRADOS HISTÓRICOS POR EMISORA PARA CALCULAR SU RENDIMIENTO TOTAL (SI NO SE AGREGAN, SE VUELVE RENDIMIENTO SIMPLE). AGREGARLOS O NO, NO AFECTA EL CÁLCULO DEL RENDIMIENTO TOTAL DEL PORTAFOLIO
B52: Mi Portafolio
B53: Ticker | C53: Compañía | D53: Títulos | E53: Costo Promedio Ponderado | F53: Costo total | G53: Último Cierre de mercado | H53: Valor mercado | I53: Dividendos Cobrados Totales | J53: Rendimiento Total | K53: % Mi Portafolio | L53: % Portafolio Modelo | M53: Diferencia vs Portafolio Modelo
B54: =B6 -> GAPB | C54: =C6 -> Grupo Aeroportuario del Pacifico, S.A.B. de C.V. | D54: ='Último rebalanceo'!K98 -> 3 | E54: ='Último rebalanceo'!L98 -> 214.37476 | F54: =D54*E54 -> 643.12429 | G54: =G6 -> 438.21 | H54: =D54*G54 -> 1314.63 | I54: 0 | J54: =(H54+I54)/F54-1 -> 1.0441305 | K54: =H54/$H$91 -> 0.024187571 | L54: =K6 -> 0.029138515 | M54: =K54-L54 -> -0.0049509446
B55: =B7 -> SIGMAFA | C55: =C7 -> Sigma Foods SAB de CV | D55: ='Último rebalanceo'!K99 -> 57 | E55: ='Último rebalanceo'!L99 -> 12.807926 | F55: =D55*E55 -> 730.05179 | G55: =G7 -> 16.55 | H55: =D55*G55 -> 943.35 | I55: 0 | J55: =(H55+I55)/F55-1 -> 0.29216861 | K55: =H55/$H$91 -> 0.017356477 | L55: =K7 -> 0.021642822 | M55: =K55-L55 -> -0.0042863455
...

Sheet Último rebalanceo
B2: IPC Regresión a la media | D2: 46142 | F2: TIIE 1 día promedio mensual | H2: 0 | J2: 0.07056
B3: Valor inicial portafolio | D3: 25000 | J3: 0
D5: ANTERIOR | K5: NUEVO
B6: Ticker | C6: Compañía | D6: Títulos | E6: Costo Promedio Ponderado | F6: Precio mercado inicio rebalanceo | G6: % Portafolio Modelo | H6: Precio mercado final rebalanceo | I6: Dividendos cobrados en el período | J6: Rendimiento Total del período | K6: Títulos | L6: Costo Promedio Ponderado | M6: Valor mercado | N6: % Portafolio Modelo | O6: Diferencia vs anterior
B7: GAPB | C7: =IFERROR(VLOOKUP(B7,GICS!$A:$B,2,0),0) -> Grupo Aeroportuario del Pacifico, S.A.B. de C.V. | D7: 3 | E7: 214.37476 | F7: 387.27 | G7: =D7*F7/$F$48 -> 0.027662697 | H7: 438.21 | I7: 0 | J7: =(H7+I7/D7)/F7-1 -> 0.13153614 | K7: =D7+D51 -> 3 | L7: =IF(K7>0,IF(K7>D7,(D7*E7+(K7-D7)*E51)/K7,E7),0) -> 214.37476 | M7: =K7*H7 -> 1314.63 | N7: =M7/$M$48 -> 0.029138515 | O7: =N7-G7 -> 0.0014758184
B8: SIGMAFA | C8: =IFERROR(VLOOKUP(B8,GICS!$A:$B,2,0),0) -> Sigma Foods SAB de CV | D8: 78 | E8: 13.200222 | F8: 14.01 | G8: =D8*F8/$F$48 -> 0.026019093 | H8: 16.55 | I8: 18.809856 | J8: =(H8+I8/D8)/F8-1 -> 0.19851192 | K8: =D8+D52 -> 59 | L8: =IF(K8>0,IF(K8>D8,(D8*E8+(K8-D8)*E52)/K8,E8),0) -> 13.200222 | M8: =K8*H8 -> 976.45 | N8: =M8/$M$48 -> 0.021642822 | O8: =N8-G8 -> -0.0043762705
B9: WALMEX | C9: =IFERROR(VLOOKUP(B9,GICS!$A:$B,2,0),0) -> Walmart de Mexico SAB de CV | D9: 20 | E9: 62.28672 | F9: 61.42 | G9: =D9*F9/$F$48 -> 0.029248205 | H9: 55.07 | I9: 33.8 | J9: =(H9+I9/D9)/F9-1 -> -0.075871052 | K9: =D9+D53 -> 16 | L9: =IF(K9>0,IF(K9>D9,(D9*E9+(K9-D9)*E53)/K9,E9),0) -> 62.28672 | M9: =K9*H9 -> 881.12 | N9: =M9/$M$48 -> 0.019529851 | O9: =N9-G9 -> -0.0097183534
B10: ORBIA | C10: =IFERROR(VLOOKUP(B10,GICS!$A:$B,2,0),0) -> ORBIA ADVANCE CORPORATION SAB de CV | D10: 83 | E10: 25.341344 | F10: 16.89 | G10: =D10*F10/$F$48 -> 0.033378526 | H10: 20.91 | I10: 0 | J10: =(H10+I10/D10)/F10-1 -> 0.23801066 | K10: =D10+D54 -> 75 | L10: =IF(K10>0,IF(K10>D10,(D10*E10+(K10-D10)*E54)/K10,E10),0) -> 25.341344 | M10: =K10*H10 -> 1568.25 | N10: =M10/$M$48 -> 0.034759953 | O10: =N10-G10 -> 0.001381427
B11: OMAB | C11: =IFERROR(VLOOKUP(B11,GICS!$A:$B,2,0),0) -> Grupo Aeroportuario del Centro Norte, S.A.B. de C.V. | D11: 4 | E11: 106.47656 | F11: 228.94 | G11: =D11*F11/$F$48 -> 0.021804246 | H11: 231.83 | I11: 23.070324 | J11: =(H11+I11/D11)/F11-1 -> 0.037815939 | K11: =D11+D55 -> 8 | L11: =IF(K11>0,IF(K11>D11,(D11*E11+(K11-D11)*E55)/K11,E11),0) -> 169.15328 | M11: =K11*H11 -> 1854.64 | N11: =M11/$M$48 -> 0.041107731 | O11: =N11-G11 -> 0.019303484
B12: TLEVISACPO | C12: =IFERROR(VLOOKUP(B12,GICS!$A:$B,2,0),0) -> Grupo Televisa SAB CPO | D12: 160 | E12: 15.705863 | F12: 9.68 | G12: =D12*F12/$F$48 -> 0.036876929 | H12: 9.96 | I12: 0 | J12: =(H12+I12/D12)/F12-1 -> 0.02892562 | K12: =D12+D56 -> 105 | L12: =IF(K12>0,IF(K12>D12,(D12*E12+(K12-D12)*E56)/K12,E12),0) -> 15.705863 | M12: =K12*H12 -> 1045.8 | N12: =M12/$M$48 -> 0.023179951 | O12: =N12-G12 -> -0.013696978
B13: CEMEXCPO | C13: =IFERROR(VLOOKUP(B13,GICS!$A:$B,2,0),0) -> Cemex SA CPO | D13: 62 | E13: 10.886807 | F13: 18.88 | G13: =D13*F13/$F$48 -> 0.027871034 | H13: 21.45 | I13: 4.94667 | J13: =(H13+I13/D13)/F13-1 -> 0.14034878 | K13: =D13+D57 -> 73 | L13: =IF(K13>0,IF(K13>D13,(D13*E13+(K13-D13)*E57)/K13,E13),0) -> 12.478521 | M13: =K13*H13 -> 1565.85 | N13: =M13/$M$48 -> 0.034706757 | O13: =N13-G13 -> 0.0068357227
B14: PINFRA | C14: =IFERROR(VLOOKUP(B14,GICS!$A:$B,2,0),0) -> Promotora y Operadora de Infraestructura SAB de CV | D14: 4 | E14: 142.14873 | F14: 240.61 | G14: =D14*F14/$F$48 -> 0.022915697 | H14: 276.6 | I14: 9.5457392 | J14: =(H14+I14/D14)/F14-1 -> 0.15949642 | K14: =D14+D58 -> 5 | L14: =IF(K14>0,IF(K14>D14,(D14*E14+(K14-D14)*E58)/K14,E14),0) -> 169.03898 | M14: =K14*H14 -> 1383 | N14: =M14/$M$48 -> 0.030653923 | O14: =N14-G14 -> 0.0077382258
B15: GMEXICOB | C15: =IFERROR(VLOOKUP(B15,GICS!$A:$B,2,0),0) -> Grupo Mexico SAB de CV B | D15: 6 | E15: 75.837009 | F15: 160.62 | G15: =D15*F15/$F$48 -> 0.022946174 | H15: 191.2 | I15: 18 | J15: =(H15+I15/D15)/F15-1 -> 0.20906487 | K15: =D15+D59 -> 12 | L15: =IF(K15>0,IF(K15>D15,(D15*E15+(K15-D15)*E59)/K15,E15),0) -> 133.5185 | M15: =K15*H15 -> 2294.4 | N15: =M15/$M$48 -> 0.050854924 | O15: =N15-G15 -> 0.027908751
B16: AC | C16: =IFERROR(VLOOKUP(B16,GICS!$A:$B,2,0),0) -> Arca Continental, SAB de CV | D16: 5 | E16: 145.40785 | F16: 179.94 | G16: =D16*F16/$F$48 -> 0.021421858 | H16: 209.87 | I16: 26.4 | J16: =(H16+I16/D16)/F16-1 -> 0.19567634 | K16: =D16+D60 -> 5 | L16: =IF(K16>0,IF(K16>D16,(D16*E16+(K16-D16)*E60)/K16,E16),0) -> 145.40785 | M16: =K16*H16 -> 1049.35 | N16: =M16/$M$48 -> 0.023258636 | O16: =N16-G16 -> 0.0018367786
B17: FEMSAUBD | C17: =IFERROR(VLOOKUP(B17,GICS!$A:$B,2,0),0) -> Fomento Economico Mexicano S.A.B. de C.V. | D17: 6 | E17: 173.36246 | F17: 175.26 | G17: =D17*F17/$F$48 -> 0.025037644 | H17: 206.45 | I17: 41.25405 | J17: =(H17+I17/D17)/F17-1 -> 0.21719545 | K17: =D17+D61 -> 4 | L17: =IF(K17>0,IF(K17>D17,(D17*E17+(K17-D17)*E61)/K17,E17),0) -> 173.36246 | M17: =K17*H17 -> 825.8 | N17: =M17/$M$48 -> 0.018303694 | O17: =N17-G17 -> -0.0067339498
B18: AMXB | C18: =IFERROR(VLOOKUP(B18,GICS!$A:$B,2,0),0) -> America Movil SAB de CV B | D18: 54 | E18: 17.891318 | F18: 21.19 | G18: =D18*F18/$F$48 -> 0.027244831 | H18: 23.21 | I18: 14.04 | J18: =(H18+I18/D18)/F18-1 -> 0.10759792 | K18: =D18+D62 -> 53 | L18: =IF(K18>0,IF(K18>D18,(D18*E18+(K18-D18)*E62)/K18,E18),0) -> 17.891318 | M18: =K18*H18 -> 1230.13 | N18: =M18/$M$48 -> 0.027265589 | O18: =N18-G18 -> 2.0757991e-05
... B40: CHDRAUIB | C40: =IFERROR(VLOOKUP(B40,GICS!$A:$B,2,0),0) -> Grupo Comercial Chedraui SA de CV | D40: 4 | E40: 111.5902 | F40: 134.71 | G40: =D40*F40/$F$48 -> 0.012829781 | H40: 102.29 | I40: 8.7984 | J40: =(H40+I40/D40)/F40-1 -> -0.22433672 | K40: =D40+D84 -> 5 | L40: =IF(K40>0,IF(K40>D40,(D40*E40+(K40-D40)*E84)/K40,E40),0) -> 109.73016 | M40: =K40*H40 -> 511.45 | N40: =M40/$M$48 -> 0.011336189 | O40: =N40-G40 -> -0.0014935922
B41: LACOMERUBC | C41: =IFERROR(VLOOKUP(B41,GICS!$A:$B,2,0),0) -> La Comer, S.A.B. de C.V. | D41: 29 | E41: 37.176553 | F41: 40.23 | G41: =D41*F41/$F$48 -> 0.027778414 | H41: 39.7 | I41: 8.0098 | J41: =(H41+I41/D41)/F41-1 -> -0.0063087248 | K41: =D41+D85 -> 22 | L41: =IF(K41>0,IF(K41>D41,(D41*E41+(K41-D41)*E89)/K41,E41),0) -> 37.176553 | M41: =K41*H41 -> 873.4 | N41: =M41/$M$48 -> 0.019358739 | O41: =N41-G41 -> -0.0084196744
B42: VOLARA | C42: =IFERROR(VLOOKUP(B42,GICS!$A:$B,2,0),0) -> Controladora Vuela Compania de Aviacion SAB de CV | D42: 0 | E42: 0 | F42: 0 | G42: =D42*F42/$F$48 -> 0 | H42: 13.06 | I42: 0 | J42: =(H42+I42/D42)/F42-1 -> #DIV/0! | K42: =D42+D86 -> 144 | L42: =IF(K42>0,IF(K42>D42,(D42*E42+(K42-D42)*E90)/K42,E42),0) -> 0 | M42: =K42*H42 -> 1880.64 | N42: =M42/$M$48 -> 0.041684016 | O42: =N42-G42 -> 0.041684016
B43: 0 | C43: =IFERROR(VLOOKUP(B43,GICS!$A:$B,2,0),0) -> 0 | D43: 0 | E43: 0 | F43: 0 | G43: =D43*F43/$F$48 -> 0 | H43: 0 | I43: 0 | J43: =(H43+I43/D43)/F43-1 -> #DIV/0! | K43: =D43+D87 -> 0 | L43: =IF(K43>0,IF(K43>D43,(D43*E43+(K43-D43)*E91)/K43,E43),0) -> 0 | M43: =K43*H43 -> 0 | N43: =M43/$M$48 -> 0 | O43: =N43-G43 -> 0
B44: 0 | C44: =IFERROR(VLOOKUP(B44,GICS!$A:$B,2,0),0) -> 0 | D44: 0 | E44: 0 | F44: 0 | G44: =D44*F44/$F$48 -> 0 | H44: 0 | I44: 0 | J44: =(H44+I44/D44)/F44-1 -> #DIV/0! | K44: =D44+D88 -> 0 | L44: =IF(K44>0,IF(K44>D44,(D44*E44+(K44-D44)*E92)/K44,E44),0) -> 0 | M44: =K44*H44 -> 0 | N44: =M44/$M$48 -> 0 | O44: =N44-G44 -> 0
B45: 0 | C45: =IFERROR(VLOOKUP(B45,GICS!$A:$B,2,0),0) -> 0 | D45: 0 | E45: 0 | F45: 0 | G45: =D45*F45/$F$48 -> 0 | H45: 0 | I45: 0 | J45: =(H45+I45/D45)/F45-1 -> #DIV/0! | K45: =D45+D89 -> 0 | L45: =IF(K45>0,IF(K45>D45,(D45*E45+(K45-D45)*E93)/K45,E45),0) -> 0 | M45: =K45*H45 -> 0 | N45: =M45/$M$48 -> 0 | O45: =N45-G45 -> 0
B46: EFECTIVO | D46: 793.3788 | E46: 0 | F46: 0 | G46: =D46/$F$48 -> 0.01889035 | H46: =D46*(1+H2)^(180/360) -> 793.3788 | J46: =H46/D46-1 -> 0 | K46: =H46+I48-SUMPRODUCT(D51:D89,E51:E89) -> 429.2547 | M46: =K46 -> 429.2547 | N46: =M46/$M$48 -> 0.009514346 | O46: =N46-G46 -> -0.0093760038
B48: TOTAL | F48: =SUMPRODUCT(D7:D41,F7:F41)+D46 -> 41999.159 | G48: =SUM(G7:G46) -> 1 | H48: =SUMPRODUCT(D7:D41,H7:H41)+H46 -> 44497.609 | I48: =SUM(I7:I46) -> 618.9659 | J48: =(H48+I48)/F48-1 -> 0.074225675 | K48: Rend. Simple | M48: =SUM(M7:M46) -> 45116.575 | N48: =SUM(N7:N46) -> 1 | O48: =SUMIF(O7:O46,">0",O7:O46) -> 0.15062443
J49: =LN((H48+I48)/F48) -> 0.071600099 | K49: Rend. Logarítmico
B50: =CONCATENATE("Movimientos ",TEXT(D2,"dd-mm-yyyy")," (precios MXN cierre):") -> Movimientos 30-04-2026 (precios MXN cierre): | D50: Compra (Venta) | E50: Precio
B51: =B7 -> GAPB | C51: =C7 -> Grupo Aeroportuario del Pacifico, S.A.B. de C.V. | D51: 0 | E51: =H7 -> 438.21
B52: =B8 -> SIGMAFA | C52: =C8 -> Sigma Foods SAB de CV | D52: -19 | E52: =H8 -> 16.55
B53: =B9 -> WALMEX | C53: =C9 -> Walmart de Mexico SAB de CV | D53: -4 | E53: =H9 -> 55.07
B54: =B10 -> ORBIA | C54: =C10 -> ORBIA ADVANCE CORPORATION SAB de CV | D54: -8 | E54: =H10 -> 20.91
B55: =B11 -> OMAB | C55: =C11 -> Grupo Aeroportuario del Centro Norte, S.A.B. de C.V. | D55: 4 | E55: =H11 -> 231.83
B56: =B12 -> TLEVISACPO | C56: =C12 -> Grupo Televisa SAB CPO | D56: -55 | E56: =H12 -> 9.96
B57: =B13 -> CEMEXCPO | C57: =C13 -> Cemex SA CPO | D57: 11 | E57: =H13 -> 21.45
B58: =B14 -> PINFRA | C58: =C14 -> Promotora y Operadora de Infraestructura SAB de CV | D58: 1 | E58: =H14 -> 276.6
B59: =B15 -> GMEXICOB | C59: =C15 -> Grupo Mexico SAB de CV B | D59: 6 | E59: =H15 -> 191.2
B60: =B16 -> AC | C60: =C16 -> Arca Continental, SAB de CV | D60: 0 | E60: =H16 -> 209.87
B61: =B17 -> FEMSAUBD | C61: =C17 -> Fomento Economico Mexicano S.A.B. de C.V. | D61: -2 | E61: =H17 -> 206.45
B62: =B18 -> AMXB | C62: =C18 -> America Movil SAB de CV B | D62: -1 | E62: =H18 -> 23.21
... B89: =B45 -> 0 | C89: =C45 -> 0 | D89: 0 | E89: =H45 -> 0
B92: REBALANCEO DE MI PORTAFOLIO
...

Sheet 12M anteriores
A1: 0 | B1: 45597 | C1: al 2-May-25 | D1: 45779 | E1: al 31-Oct-25
A2: Ticker | B2: Títulos | C2: Valor final | D2: Títulos | E2: Valor final
A3: GAPB | B3: 4 | C3: 1589.52 | D3: 3 | E3: =D3*VLOOKUP(CONCATENATE(A3,".MX"),[1]Sheet1!$AP$40:$AY$78,10,0) -> 1161.81
A4: SIGMAFA | B4: 63 | C4: 896.48997 | D4: 87 | E4: =D4*VLOOKUP(CONCATENATE(A4,".MX"),[1]Sheet1!$AP$40:$AY$78,10,0) -> 1218.87
A5: WALMEX | B5: 15 | C5: 931.95002 | D5: 13 | E5: =D5*VLOOKUP(CONCATENATE(A5,".MX"),[1]Sheet1!$AP$40:$AY$78,10,0) -> 798.46
A6: ORBIA | B6: 66 | C6: 873.83998 | D6: 98 | E6: =D6*VLOOKUP(CONCATENATE(A6,".MX"),[1]Sheet1!$AP$40:$AY$78,10,0) -> 1655.22
A7: OMAB | B7: 8 | C7: 1726.3199 | D7: 5 | E7: =D7*VLOOKUP(CONCATENATE(A7,".MX"),[1]Sheet1!$AP$40:$AY$78,10,0) -> 1144.7
A8: TLEVISACPO | B8: 147 | C8: 1049.58 | D8: 163 | E8: =D8*VLOOKUP(CONCATENATE(A8,".MX"),[1]Sheet1!$AP$40:$AY$78,10,0) -> 1577.84
A9: CEMEXCPO | B9: 88 | C9: 1067.44 | D9: 76 | E9: =D9*VLOOKUP(CONCATENATE(A9,".MX"),[1]Sheet1!$AP$40:$AY$78,10,0) -> 1434.88
A10: PINFRA | B10: 6 | C10: 1316.58 | D10: 5 | E10: =D10*VLOOKUP(CONCATENATE(A10,".MX"),[1]Sheet1!$AP$40:$AY$78,10,0) -> 1203.05
A11: GMEXICOB | B11: 11 | C11: 1119.36 | D11: 11 | E11: =D11*VLOOKUP(CONCATENATE(A11,".MX"),[1]Sheet1!$AP$40:$AY$78,10,0) -> 1766.82
A12: AC | B12: 4 | C12: 826.12 | D12: 4 | E12: =D12*VLOOKUP(CONCATENATE(A12,".MX"),[1]Sheet1!$AP$40:$AY$78,10,0) -> 719.76
A13: FEMSAUBD | B13: 2 | C13: 412.38 | D13: 3 | E13: =D13*VLOOKUP(CONCATENATE(A13,".MX"),[1]Sheet1!$AP$40:$AY$78,10,0) -> 525.78
A14: AMXB | B14: 37 | C14: 627.88997 | D14: 34 | E14: =D14*VLOOKUP(CONCATENATE(A14,".MX"),[1]Sheet1!$AP$40:$AY$78,10,0) -> 720.46
... A41: LACOMERUBC | B41: 23 | C41: 844.32998 | D41: 23 | E41: =D41*VLOOKUP(CONCATENATE(A41,".MX"),[1]Sheet1!$AP$40:$AY$78,10,0) -> 925.29
A42: EFECTIVO | B42: 1 | C42: 626.25191 | D42: 1 | E42: 1026.12
A43: TOTAL | C43: =SUM(C3:C42) -> 37525.022 | E43: =SUM(E3:E42) -> 41999.16

Sheet GICS
A1: AC | B1: Arca Continental, SAB de CV | C1: Consumo básico
A2: SIGMAFA | B2: Sigma Foods SAB de CV | C2: Consumo básico
A3: ALSEA | B3: Alsea SA | C3: Consumo discrecional
A4: AMXB | B4: America Movil SAB de CV B | C4: Servicios de comunicación
A5: ASURB | B5: Grupo Aeroportuario del Sureste SAB de CV B | C5: Industrial
A6: BBAJIOO | B6: Banco del Bajio, S.A. | C6: Financiero
A7: BIMBOA | B7: Grupo Bimbo S.A.B. | C7: Consumo básico
A8: BOLSAA | B8: Bolsa Mexicana de Valores SA de CV | C8: Financiero
A9: CEMEXCPO | B9: Cemex SA CPO | C9: Materiales
A10: CHDRAUIB | B10: Grupo Comercial Chedraui SA de CV | C10: Consumo básico
A11: CUERVO | B11: Becle, S.A. De C.V. | C11: Consumo discrecional
A12: FEMSAUBD | B12: Fomento Economico Mexicano S.A.B. de C.V. | C12: Consumo discrecional
... A36: VOLARA | B36: Controladora Vuela Compania de Aviacion SAB de CV | C36: Consumo básico
